BEGIN:VCALENDAR
VERSION:2.0
PRODID:-//Dallas Pets Alive! - ECPv6.15.14//NONSGML v1.0//EN
CALSCALE:GREGORIAN
METHOD:PUBLISH
X-ORIGINAL-URL:https://dallaspetsalive.org
X-WR-CALDESC:Events for Dallas Pets Alive!
REFRESH-INTERVAL;VALUE=DURATION:PT1H
X-Robots-Tag:noindex
X-PUBLISHED-TTL:PT1H
BEGIN:VTIMEZONE
TZID:America/Chicago
BEGIN:DAYLIGHT
TZOFFSETFROM:-0600
TZOFFSETTO:-0500
TZNAME:CDT
DTSTART:20250309T080000
END:DAYLIGHT
BEGIN:STANDARD
TZOFFSETFROM:-0500
TZOFFSETTO:-0600
TZNAME:CST
DTSTART:20251102T070000
END:STANDARD
BEGIN:DAYLIGHT
TZOFFSETFROM:-0600
TZOFFSETTO:-0500
TZNAME:CDT
DTSTART:20260308T080000
END:DAYLIGHT
BEGIN:STANDARD
TZOFFSETFROM:-0500
TZOFFSETTO:-0600
TZNAME:CST
DTSTART:20261101T070000
END:STANDARD
BEGIN:DAYLIGHT
TZOFFSETFROM:-0600
TZOFFSETTO:-0500
TZNAME:CDT
DTSTART:20270314T080000
END:DAYLIGHT
BEGIN:STANDARD
TZOFFSETFROM:-0500
TZOFFSETTO:-0600
TZNAME:CST
DTSTART:20271107T070000
END:STANDARD
END:VTIMEZONE
BEGIN:VEVENT
DTSTART;TZID=America/Chicago:20260418T100000
DTEND;TZID=America/Chicago:20260418T150000
DTSTAMP:20260421T231905
CREATED:20260329T031747Z
LAST-MODIFIED:20260329T031747Z
UID:10000924-1776506400-1776524400@dallaspetsalive.org
SUMMARY:Adoption Event with Gateway GMC
DESCRIPTION:Gateway GMC is teaming up with the Humane Society of Dallas County and Dallas Pets Alive for a dog adoption event April 18th from 10:00 to 3:00 \n\nGateway will pay all adoption fees for any successful adoption from this event and donate $500 for every vehicle sold to the HSDC \nFree hot dogs and refreshments starting at noon
URL:https://dallaspetsalive.org/event/adoption-event-with-gateway-gmc/
LOCATION:Gateway GMC\, 11438 Lyndon B Johnson Fwy\, Dallas\, TX\, 75238\, United States
CATEGORIES:Adoption,Community,Dogs,Humane Society of Dallas County
ATTACH;FMTTYPE=image/jpeg:https://dallaspetsalive.org/wp-content/uploads/2026/03/Untitled-design.jpg
END:VEVENT
END:VCALENDAR