BEGIN:VCALENDAR
VERSION:2.0
PRODID:-//Dallas Pets Alive! - ECPv6.15.14//NONSGML v1.0//EN
CALSCALE:GREGORIAN
METHOD:PUBLISH
X-WR-CALNAME:Dallas Pets Alive!
X-ORIGINAL-URL:https://dallaspetsalive.org
X-WR-CALDESC:Events for Dallas Pets Alive!
REFRESH-INTERVAL;VALUE=DURATION:PT1H
X-Robots-Tag:noindex
X-PUBLISHED-TTL:PT1H
BEGIN:VTIMEZONE
TZID:America/Chicago
BEGIN:DAYLIGHT
TZOFFSETFROM:-0600
TZOFFSETTO:-0500
TZNAME:CDT
DTSTART:20220313T080000
END:DAYLIGHT
BEGIN:STANDARD
TZOFFSETFROM:-0500
TZOFFSETTO:-0600
TZNAME:CST
DTSTART:20221106T070000
END:STANDARD
BEGIN:DAYLIGHT
TZOFFSETFROM:-0600
TZOFFSETTO:-0500
TZNAME:CDT
DTSTART:20230312T080000
END:DAYLIGHT
BEGIN:STANDARD
TZOFFSETFROM:-0500
TZOFFSETTO:-0600
TZNAME:CST
DTSTART:20231105T070000
END:STANDARD
BEGIN:DAYLIGHT
TZOFFSETFROM:-0600
TZOFFSETTO:-0500
TZNAME:CDT
DTSTART:20240310T080000
END:DAYLIGHT
BEGIN:STANDARD
TZOFFSETFROM:-0500
TZOFFSETTO:-0600
TZNAME:CST
DTSTART:20241103T070000
END:STANDARD
END:VTIMEZONE
BEGIN:VEVENT
DTSTART;TZID=America/Chicago:20231126T120000
DTEND;TZID=America/Chicago:20231126T170000
DTSTAMP:20260419T183659
CREATED:20231028T080230Z
LAST-MODIFIED:20231028T080230Z
UID:10000093-1701000000-1701018000@dallaspetsalive.org
SUMMARY:Home for the Holidays\, A McKinney Christmas
DESCRIPTION:An Unforgettable Experience and a Great Start to the Holiday Season \nThanksgiving weekend 2022 marks the 42nd year of our hometown Christmas celebration! Stroll the 14-block area of McKinney’s 166-year-old commercial historic downtown for family activities\, food\, and entertainment. Enjoy a uniquely McKinney Christmas celebration with neighbors and visitors from near and far. \nDPA and our foster animals will be hosted\, once again\, by Carpe Diem Comics\, 208 E Louisiana St.\, Suite 100\, McKinney\, Texas 75069 \nAdmission is free and open to the public
URL:https://dallaspetsalive.org/event/home-for-the-holidays-a-mckinney-christmas-3/
LOCATION:Carpe Diem Comics\, 208 E Louisiana St\, Suite 100\, McKinney\, TX\, 75069\, United States
CATEGORIES:Adoption,Celebration,Community,Dogs
ATTACH;FMTTYPE=image/jpeg:https://dallaspetsalive.org/wp-content/uploads/2023/10/Home-for-the-Holidays.jpg
END:VEVENT
BEGIN:VEVENT
DTSTART;TZID=America/Chicago:20231125T103000
DTEND;TZID=America/Chicago:20231125T210000
DTSTAMP:20260419T183659
CREATED:20231028T075950Z
LAST-MODIFIED:20231028T080010Z
UID:10000092-1700908200-1700946000@dallaspetsalive.org
SUMMARY:Home for the Holidays\, A McKinney Christmas
DESCRIPTION:An Unforgettable Experience and a Great Start to the Holiday Season \nThanksgiving weekend 2022 marks the 42nd year of our hometown Christmas celebration! Stroll the 14-block area of McKinney’s 166-year-old commercial historic downtown for family activities\, food\, and entertainment. Enjoy a uniquely McKinney Christmas celebration with neighbors and visitors from near and far. \nDPA and our foster animals will be hosted\, once again\, by Carpe Diem Comics\, 208 E Louisiana St.\, Suite 100\, McKinney\, Texas 75069 \nAdmission is free and open to the public
URL:https://dallaspetsalive.org/event/home-for-the-holidays-a-mckinney-christmas-2/
LOCATION:Carpe Diem Comics\, 208 E Louisiana St\, Suite 100\, McKinney\, TX\, 75069\, United States
CATEGORIES:Adoption,Celebration,Community,Dogs
ATTACH;FMTTYPE=image/jpeg:https://dallaspetsalive.org/wp-content/uploads/2023/10/Home-for-the-Holidays.jpg
END:VEVENT
BEGIN:VEVENT
DTSTART;TZID=America/Chicago:20231124T103000
DTEND;TZID=America/Chicago:20231124T210000
DTSTAMP:20260419T183659
CREATED:20231028T075723Z
LAST-MODIFIED:20231028T075723Z
UID:10000091-1700821800-1700859600@dallaspetsalive.org
SUMMARY:Home for the Holidays\, A McKinney Christmas
DESCRIPTION:An Unforgettable Experience and a Great Start to the Holiday Season \nThanksgiving weekend 2022 marks the 42nd year of our hometown Christmas celebration! Stroll the 14-block area of McKinney’s 166-year-old commercial historic downtown for family activities\, food\, and entertainment. Enjoy a uniquely McKinney Christmas celebration with neighbors and visitors from near and far. \nDPA and our foster animals will be hosted\, once again\, by Carpe Diem Comics\, 208 E Louisiana St.\, Suite 100\, McKinney\, Texas 75069 \nAdmission is free and open to the public \n6:15 p.m. | Christmas Tree Lighting Ceremony in Historic Downtown McKinney.\nDonate to the Community Christmas Tree fund
URL:https://dallaspetsalive.org/event/home-for-the-holidays-a-mckinney-christmas/
LOCATION:Carpe Diem Comics\, 208 E Louisiana St\, Suite 100\, McKinney\, TX\, 75069\, United States
CATEGORIES:Adoption,Celebration,Community,Dogs
ATTACH;FMTTYPE=image/jpeg:https://dallaspetsalive.org/wp-content/uploads/2023/10/Home-for-the-Holidays.jpg
END:VEVENT
END:VCALENDAR