BEGIN:VCALENDAR
VERSION:2.0
PRODID:-//Dallas Pets Alive! - ECPv6.15.14//NONSGML v1.0//EN
CALSCALE:GREGORIAN
METHOD:PUBLISH
X-WR-CALNAME:Dallas Pets Alive!
X-ORIGINAL-URL:https://dallaspetsalive.org
X-WR-CALDESC:Events for Dallas Pets Alive!
REFRESH-INTERVAL;VALUE=DURATION:PT1H
X-Robots-Tag:noindex
X-PUBLISHED-TTL:PT1H
BEGIN:VTIMEZONE
TZID:America/Chicago
BEGIN:DAYLIGHT
TZOFFSETFROM:-0600
TZOFFSETTO:-0500
TZNAME:CDT
DTSTART:20240310T080000
END:DAYLIGHT
BEGIN:STANDARD
TZOFFSETFROM:-0500
TZOFFSETTO:-0600
TZNAME:CST
DTSTART:20241103T070000
END:STANDARD
BEGIN:DAYLIGHT
TZOFFSETFROM:-0600
TZOFFSETTO:-0500
TZNAME:CDT
DTSTART:20250309T080000
END:DAYLIGHT
BEGIN:STANDARD
TZOFFSETFROM:-0500
TZOFFSETTO:-0600
TZNAME:CST
DTSTART:20251102T070000
END:STANDARD
BEGIN:DAYLIGHT
TZOFFSETFROM:-0600
TZOFFSETTO:-0500
TZNAME:CDT
DTSTART:20260308T080000
END:DAYLIGHT
BEGIN:STANDARD
TZOFFSETFROM:-0500
TZOFFSETTO:-0600
TZNAME:CST
DTSTART:20261101T070000
END:STANDARD
END:VTIMEZONE
BEGIN:VEVENT
DTSTART;TZID=America/Chicago:20251212T100000
DTEND;TZID=America/Chicago:20251212T180000
DTSTAMP:20260422T041646
CREATED:20251127T014906Z
LAST-MODIFIED:20251127T015431Z
UID:10000391-1765533600-1765562400@dallaspetsalive.org
SUMMARY:Giftwrapping with Esther
DESCRIPTION:For 30 years\, Esther Mooring and her volunteers have raised more than $170\,000 for animal rescues by wrapping gifts during the holidays. You can join in and learn all the tricks of gift wrapping! \nSign up to volunteer\, and Esther will get you scheduled for a shift(s). Come out and help! It’s fun! \nIf you can’t volunteer but want help wrapping\, bring your gifts from 10 a.m. to 6 p.m. (7 days a week) between Black Friday and Christmas Eve at the Barnes & Noble at 2201 Preston Road in Plano! (You can bring your gifts to be wrapped\, even if they weren’t purchased at Barnes & Noble.
URL:https://dallaspetsalive.org/event/giftwrapping-with-esther/2025-12-12/
LOCATION:Barnes & Noble (Preston)\, 2201 Preston Road\, Plano\, TX\, 75093\, United States
CATEGORIES:Community,Social
ATTACH;FMTTYPE=image/jpeg:https://dallaspetsalive.org/wp-content/uploads/2025/11/Gift-Wrapping-with-Esther.jpg
END:VEVENT
BEGIN:VEVENT
DTSTART;TZID=America/Chicago:20251211T100000
DTEND;TZID=America/Chicago:20251211T180000
DTSTAMP:20260422T041646
CREATED:20251127T014906Z
LAST-MODIFIED:20251127T015431Z
UID:10000390-1765447200-1765476000@dallaspetsalive.org
SUMMARY:Giftwrapping with Esther
DESCRIPTION:For 30 years\, Esther Mooring and her volunteers have raised more than $170\,000 for animal rescues by wrapping gifts during the holidays. You can join in and learn all the tricks of gift wrapping! \nSign up to volunteer\, and Esther will get you scheduled for a shift(s). Come out and help! It’s fun! \nIf you can’t volunteer but want help wrapping\, bring your gifts from 10 a.m. to 6 p.m. (7 days a week) between Black Friday and Christmas Eve at the Barnes & Noble at 2201 Preston Road in Plano! (You can bring your gifts to be wrapped\, even if they weren’t purchased at Barnes & Noble.
URL:https://dallaspetsalive.org/event/giftwrapping-with-esther/2025-12-11/
LOCATION:Barnes & Noble (Preston)\, 2201 Preston Road\, Plano\, TX\, 75093\, United States
CATEGORIES:Community,Social
ATTACH;FMTTYPE=image/jpeg:https://dallaspetsalive.org/wp-content/uploads/2025/11/Gift-Wrapping-with-Esther.jpg
END:VEVENT
BEGIN:VEVENT
DTSTART;TZID=America/Chicago:20251210T100000
DTEND;TZID=America/Chicago:20251210T180000
DTSTAMP:20260422T041646
CREATED:20251127T014906Z
LAST-MODIFIED:20251127T015431Z
UID:10000389-1765360800-1765389600@dallaspetsalive.org
SUMMARY:Giftwrapping with Esther
DESCRIPTION:For 30 years\, Esther Mooring and her volunteers have raised more than $170\,000 for animal rescues by wrapping gifts during the holidays. You can join in and learn all the tricks of gift wrapping! \nSign up to volunteer\, and Esther will get you scheduled for a shift(s). Come out and help! It’s fun! \nIf you can’t volunteer but want help wrapping\, bring your gifts from 10 a.m. to 6 p.m. (7 days a week) between Black Friday and Christmas Eve at the Barnes & Noble at 2201 Preston Road in Plano! (You can bring your gifts to be wrapped\, even if they weren’t purchased at Barnes & Noble.
URL:https://dallaspetsalive.org/event/giftwrapping-with-esther/2025-12-10/
LOCATION:Barnes & Noble (Preston)\, 2201 Preston Road\, Plano\, TX\, 75093\, United States
CATEGORIES:Community,Social
ATTACH;FMTTYPE=image/jpeg:https://dallaspetsalive.org/wp-content/uploads/2025/11/Gift-Wrapping-with-Esther.jpg
END:VEVENT
BEGIN:VEVENT
DTSTART;TZID=America/Chicago:20251209T100000
DTEND;TZID=America/Chicago:20251209T180000
DTSTAMP:20260422T041646
CREATED:20251127T014906Z
LAST-MODIFIED:20251127T015431Z
UID:10000388-1765274400-1765303200@dallaspetsalive.org
SUMMARY:Giftwrapping with Esther
DESCRIPTION:For 30 years\, Esther Mooring and her volunteers have raised more than $170\,000 for animal rescues by wrapping gifts during the holidays. You can join in and learn all the tricks of gift wrapping! \nSign up to volunteer\, and Esther will get you scheduled for a shift(s). Come out and help! It’s fun! \nIf you can’t volunteer but want help wrapping\, bring your gifts from 10 a.m. to 6 p.m. (7 days a week) between Black Friday and Christmas Eve at the Barnes & Noble at 2201 Preston Road in Plano! (You can bring your gifts to be wrapped\, even if they weren’t purchased at Barnes & Noble.
URL:https://dallaspetsalive.org/event/giftwrapping-with-esther/2025-12-09/
LOCATION:Barnes & Noble (Preston)\, 2201 Preston Road\, Plano\, TX\, 75093\, United States
CATEGORIES:Community,Social
ATTACH;FMTTYPE=image/jpeg:https://dallaspetsalive.org/wp-content/uploads/2025/11/Gift-Wrapping-with-Esther.jpg
END:VEVENT
BEGIN:VEVENT
DTSTART;TZID=America/Chicago:20251208T100000
DTEND;TZID=America/Chicago:20251208T180000
DTSTAMP:20260422T041646
CREATED:20251127T014906Z
LAST-MODIFIED:20251127T015431Z
UID:10000387-1765188000-1765216800@dallaspetsalive.org
SUMMARY:Giftwrapping with Esther
DESCRIPTION:For 30 years\, Esther Mooring and her volunteers have raised more than $170\,000 for animal rescues by wrapping gifts during the holidays. You can join in and learn all the tricks of gift wrapping! \nSign up to volunteer\, and Esther will get you scheduled for a shift(s). Come out and help! It’s fun! \nIf you can’t volunteer but want help wrapping\, bring your gifts from 10 a.m. to 6 p.m. (7 days a week) between Black Friday and Christmas Eve at the Barnes & Noble at 2201 Preston Road in Plano! (You can bring your gifts to be wrapped\, even if they weren’t purchased at Barnes & Noble.
URL:https://dallaspetsalive.org/event/giftwrapping-with-esther/2025-12-08/
LOCATION:Barnes & Noble (Preston)\, 2201 Preston Road\, Plano\, TX\, 75093\, United States
CATEGORIES:Community,Social
ATTACH;FMTTYPE=image/jpeg:https://dallaspetsalive.org/wp-content/uploads/2025/11/Gift-Wrapping-with-Esther.jpg
END:VEVENT
BEGIN:VEVENT
DTSTART;TZID=America/Chicago:20251207T100000
DTEND;TZID=America/Chicago:20251207T180000
DTSTAMP:20260422T041646
CREATED:20251127T014906Z
LAST-MODIFIED:20251127T015431Z
UID:10000386-1765101600-1765130400@dallaspetsalive.org
SUMMARY:Giftwrapping with Esther
DESCRIPTION:For 30 years\, Esther Mooring and her volunteers have raised more than $170\,000 for animal rescues by wrapping gifts during the holidays. You can join in and learn all the tricks of gift wrapping! \nSign up to volunteer\, and Esther will get you scheduled for a shift(s). Come out and help! It’s fun! \nIf you can’t volunteer but want help wrapping\, bring your gifts from 10 a.m. to 6 p.m. (7 days a week) between Black Friday and Christmas Eve at the Barnes & Noble at 2201 Preston Road in Plano! (You can bring your gifts to be wrapped\, even if they weren’t purchased at Barnes & Noble.
URL:https://dallaspetsalive.org/event/giftwrapping-with-esther/2025-12-07/
LOCATION:Barnes & Noble (Preston)\, 2201 Preston Road\, Plano\, TX\, 75093\, United States
CATEGORIES:Community,Social
ATTACH;FMTTYPE=image/jpeg:https://dallaspetsalive.org/wp-content/uploads/2025/11/Gift-Wrapping-with-Esther.jpg
END:VEVENT
BEGIN:VEVENT
DTSTART;TZID=America/Chicago:20251206T100000
DTEND;TZID=America/Chicago:20251206T180000
DTSTAMP:20260422T041646
CREATED:20251127T014906Z
LAST-MODIFIED:20251127T015431Z
UID:10000385-1765015200-1765044000@dallaspetsalive.org
SUMMARY:Giftwrapping with Esther
DESCRIPTION:For 30 years\, Esther Mooring and her volunteers have raised more than $170\,000 for animal rescues by wrapping gifts during the holidays. You can join in and learn all the tricks of gift wrapping! \nSign up to volunteer\, and Esther will get you scheduled for a shift(s). Come out and help! It’s fun! \nIf you can’t volunteer but want help wrapping\, bring your gifts from 10 a.m. to 6 p.m. (7 days a week) between Black Friday and Christmas Eve at the Barnes & Noble at 2201 Preston Road in Plano! (You can bring your gifts to be wrapped\, even if they weren’t purchased at Barnes & Noble.
URL:https://dallaspetsalive.org/event/giftwrapping-with-esther/2025-12-06/
LOCATION:Barnes & Noble (Preston)\, 2201 Preston Road\, Plano\, TX\, 75093\, United States
CATEGORIES:Community,Social
ATTACH;FMTTYPE=image/jpeg:https://dallaspetsalive.org/wp-content/uploads/2025/11/Gift-Wrapping-with-Esther.jpg
END:VEVENT
BEGIN:VEVENT
DTSTART;TZID=America/Chicago:20251205T100000
DTEND;TZID=America/Chicago:20251205T180000
DTSTAMP:20260422T041646
CREATED:20251127T014906Z
LAST-MODIFIED:20251127T015431Z
UID:10000384-1764928800-1764957600@dallaspetsalive.org
SUMMARY:Giftwrapping with Esther
DESCRIPTION:For 30 years\, Esther Mooring and her volunteers have raised more than $170\,000 for animal rescues by wrapping gifts during the holidays. You can join in and learn all the tricks of gift wrapping! \nSign up to volunteer\, and Esther will get you scheduled for a shift(s). Come out and help! It’s fun! \nIf you can’t volunteer but want help wrapping\, bring your gifts from 10 a.m. to 6 p.m. (7 days a week) between Black Friday and Christmas Eve at the Barnes & Noble at 2201 Preston Road in Plano! (You can bring your gifts to be wrapped\, even if they weren’t purchased at Barnes & Noble.
URL:https://dallaspetsalive.org/event/giftwrapping-with-esther/2025-12-05/
LOCATION:Barnes & Noble (Preston)\, 2201 Preston Road\, Plano\, TX\, 75093\, United States
CATEGORIES:Community,Social
ATTACH;FMTTYPE=image/jpeg:https://dallaspetsalive.org/wp-content/uploads/2025/11/Gift-Wrapping-with-Esther.jpg
END:VEVENT
BEGIN:VEVENT
DTSTART;TZID=America/Chicago:20251204T100000
DTEND;TZID=America/Chicago:20251204T180000
DTSTAMP:20260422T041646
CREATED:20251127T014906Z
LAST-MODIFIED:20251127T015431Z
UID:10000383-1764842400-1764871200@dallaspetsalive.org
SUMMARY:Giftwrapping with Esther
DESCRIPTION:For 30 years\, Esther Mooring and her volunteers have raised more than $170\,000 for animal rescues by wrapping gifts during the holidays. You can join in and learn all the tricks of gift wrapping! \nSign up to volunteer\, and Esther will get you scheduled for a shift(s). Come out and help! It’s fun! \nIf you can’t volunteer but want help wrapping\, bring your gifts from 10 a.m. to 6 p.m. (7 days a week) between Black Friday and Christmas Eve at the Barnes & Noble at 2201 Preston Road in Plano! (You can bring your gifts to be wrapped\, even if they weren’t purchased at Barnes & Noble.
URL:https://dallaspetsalive.org/event/giftwrapping-with-esther/2025-12-04/
LOCATION:Barnes & Noble (Preston)\, 2201 Preston Road\, Plano\, TX\, 75093\, United States
CATEGORIES:Community,Social
ATTACH;FMTTYPE=image/jpeg:https://dallaspetsalive.org/wp-content/uploads/2025/11/Gift-Wrapping-with-Esther.jpg
END:VEVENT
BEGIN:VEVENT
DTSTART;TZID=America/Chicago:20251203T100000
DTEND;TZID=America/Chicago:20251203T180000
DTSTAMP:20260422T041646
CREATED:20251127T014906Z
LAST-MODIFIED:20251127T015431Z
UID:10000382-1764756000-1764784800@dallaspetsalive.org
SUMMARY:Giftwrapping with Esther
DESCRIPTION:For 30 years\, Esther Mooring and her volunteers have raised more than $170\,000 for animal rescues by wrapping gifts during the holidays. You can join in and learn all the tricks of gift wrapping! \nSign up to volunteer\, and Esther will get you scheduled for a shift(s). Come out and help! It’s fun! \nIf you can’t volunteer but want help wrapping\, bring your gifts from 10 a.m. to 6 p.m. (7 days a week) between Black Friday and Christmas Eve at the Barnes & Noble at 2201 Preston Road in Plano! (You can bring your gifts to be wrapped\, even if they weren’t purchased at Barnes & Noble.
URL:https://dallaspetsalive.org/event/giftwrapping-with-esther/2025-12-03/
LOCATION:Barnes & Noble (Preston)\, 2201 Preston Road\, Plano\, TX\, 75093\, United States
CATEGORIES:Community,Social
ATTACH;FMTTYPE=image/jpeg:https://dallaspetsalive.org/wp-content/uploads/2025/11/Gift-Wrapping-with-Esther.jpg
END:VEVENT
BEGIN:VEVENT
DTSTART;TZID=America/Chicago:20251202T100000
DTEND;TZID=America/Chicago:20251202T180000
DTSTAMP:20260422T041646
CREATED:20251127T014906Z
LAST-MODIFIED:20251127T015431Z
UID:10000381-1764669600-1764698400@dallaspetsalive.org
SUMMARY:Giftwrapping with Esther
DESCRIPTION:For 30 years\, Esther Mooring and her volunteers have raised more than $170\,000 for animal rescues by wrapping gifts during the holidays. You can join in and learn all the tricks of gift wrapping! \nSign up to volunteer\, and Esther will get you scheduled for a shift(s). Come out and help! It’s fun! \nIf you can’t volunteer but want help wrapping\, bring your gifts from 10 a.m. to 6 p.m. (7 days a week) between Black Friday and Christmas Eve at the Barnes & Noble at 2201 Preston Road in Plano! (You can bring your gifts to be wrapped\, even if they weren’t purchased at Barnes & Noble.
URL:https://dallaspetsalive.org/event/giftwrapping-with-esther/2025-12-02/
LOCATION:Barnes & Noble (Preston)\, 2201 Preston Road\, Plano\, TX\, 75093\, United States
CATEGORIES:Community,Social
ATTACH;FMTTYPE=image/jpeg:https://dallaspetsalive.org/wp-content/uploads/2025/11/Gift-Wrapping-with-Esther.jpg
END:VEVENT
BEGIN:VEVENT
DTSTART;TZID=America/Chicago:20251201T100000
DTEND;TZID=America/Chicago:20251201T180000
DTSTAMP:20260422T041646
CREATED:20251127T014906Z
LAST-MODIFIED:20251127T015431Z
UID:10000380-1764583200-1764612000@dallaspetsalive.org
SUMMARY:Giftwrapping with Esther
DESCRIPTION:For 30 years\, Esther Mooring and her volunteers have raised more than $170\,000 for animal rescues by wrapping gifts during the holidays. You can join in and learn all the tricks of gift wrapping! \nSign up to volunteer\, and Esther will get you scheduled for a shift(s). Come out and help! It’s fun! \nIf you can’t volunteer but want help wrapping\, bring your gifts from 10 a.m. to 6 p.m. (7 days a week) between Black Friday and Christmas Eve at the Barnes & Noble at 2201 Preston Road in Plano! (You can bring your gifts to be wrapped\, even if they weren’t purchased at Barnes & Noble.
URL:https://dallaspetsalive.org/event/giftwrapping-with-esther/2025-12-01/
LOCATION:Barnes & Noble (Preston)\, 2201 Preston Road\, Plano\, TX\, 75093\, United States
CATEGORIES:Community,Social
ATTACH;FMTTYPE=image/jpeg:https://dallaspetsalive.org/wp-content/uploads/2025/11/Gift-Wrapping-with-Esther.jpg
END:VEVENT
BEGIN:VEVENT
DTSTART;TZID=America/Chicago:20251130T100000
DTEND;TZID=America/Chicago:20251130T180000
DTSTAMP:20260422T041646
CREATED:20251127T014906Z
LAST-MODIFIED:20251127T015431Z
UID:10000379-1764496800-1764525600@dallaspetsalive.org
SUMMARY:Giftwrapping with Esther
DESCRIPTION:For 30 years\, Esther Mooring and her volunteers have raised more than $170\,000 for animal rescues by wrapping gifts during the holidays. You can join in and learn all the tricks of gift wrapping! \nSign up to volunteer\, and Esther will get you scheduled for a shift(s). Come out and help! It’s fun! \nIf you can’t volunteer but want help wrapping\, bring your gifts from 10 a.m. to 6 p.m. (7 days a week) between Black Friday and Christmas Eve at the Barnes & Noble at 2201 Preston Road in Plano! (You can bring your gifts to be wrapped\, even if they weren’t purchased at Barnes & Noble.
URL:https://dallaspetsalive.org/event/giftwrapping-with-esther/2025-11-30/
LOCATION:Barnes & Noble (Preston)\, 2201 Preston Road\, Plano\, TX\, 75093\, United States
CATEGORIES:Community,Social
ATTACH;FMTTYPE=image/jpeg:https://dallaspetsalive.org/wp-content/uploads/2025/11/Gift-Wrapping-with-Esther.jpg
END:VEVENT
BEGIN:VEVENT
DTSTART;TZID=America/Chicago:20251129T100000
DTEND;TZID=America/Chicago:20251129T180000
DTSTAMP:20260422T041646
CREATED:20251127T014906Z
LAST-MODIFIED:20251127T015431Z
UID:10000378-1764410400-1764439200@dallaspetsalive.org
SUMMARY:Giftwrapping with Esther
DESCRIPTION:For 30 years\, Esther Mooring and her volunteers have raised more than $170\,000 for animal rescues by wrapping gifts during the holidays. You can join in and learn all the tricks of gift wrapping! \nSign up to volunteer\, and Esther will get you scheduled for a shift(s). Come out and help! It’s fun! \nIf you can’t volunteer but want help wrapping\, bring your gifts from 10 a.m. to 6 p.m. (7 days a week) between Black Friday and Christmas Eve at the Barnes & Noble at 2201 Preston Road in Plano! (You can bring your gifts to be wrapped\, even if they weren’t purchased at Barnes & Noble.
URL:https://dallaspetsalive.org/event/giftwrapping-with-esther/2025-11-29/
LOCATION:Barnes & Noble (Preston)\, 2201 Preston Road\, Plano\, TX\, 75093\, United States
CATEGORIES:Community,Social
ATTACH;FMTTYPE=image/jpeg:https://dallaspetsalive.org/wp-content/uploads/2025/11/Gift-Wrapping-with-Esther.jpg
END:VEVENT
BEGIN:VEVENT
DTSTART;TZID=America/Chicago:20251128T100000
DTEND;TZID=America/Chicago:20251128T180000
DTSTAMP:20260422T041646
CREATED:20251127T014906Z
LAST-MODIFIED:20251127T015431Z
UID:10000377-1764324000-1764352800@dallaspetsalive.org
SUMMARY:Giftwrapping with Esther
DESCRIPTION:For 30 years\, Esther Mooring and her volunteers have raised more than $170\,000 for animal rescues by wrapping gifts during the holidays. You can join in and learn all the tricks of gift wrapping! \nSign up to volunteer\, and Esther will get you scheduled for a shift(s). Come out and help! It’s fun! \nIf you can’t volunteer but want help wrapping\, bring your gifts from 10 a.m. to 6 p.m. (7 days a week) between Black Friday and Christmas Eve at the Barnes & Noble at 2201 Preston Road in Plano! (You can bring your gifts to be wrapped\, even if they weren’t purchased at Barnes & Noble.
URL:https://dallaspetsalive.org/event/giftwrapping-with-esther/2025-11-28/
LOCATION:Barnes & Noble (Preston)\, 2201 Preston Road\, Plano\, TX\, 75093\, United States
CATEGORIES:Community,Social
ATTACH;FMTTYPE=image/jpeg:https://dallaspetsalive.org/wp-content/uploads/2025/11/Gift-Wrapping-with-Esther.jpg
END:VEVENT
END:VCALENDAR