BEGIN:VCALENDAR
VERSION:2.0
PRODID:-//Dallas Pets Alive! - ECPv6.15.14//NONSGML v1.0//EN
CALSCALE:GREGORIAN
METHOD:PUBLISH
X-ORIGINAL-URL:https://dallaspetsalive.org
X-WR-CALDESC:Events for Dallas Pets Alive!
REFRESH-INTERVAL;VALUE=DURATION:PT1H
X-Robots-Tag:noindex
X-PUBLISHED-TTL:PT1H
BEGIN:VTIMEZONE
TZID:America/Chicago
BEGIN:DAYLIGHT
TZOFFSETFROM:-0600
TZOFFSETTO:-0500
TZNAME:CDT
DTSTART:20230312T080000
END:DAYLIGHT
BEGIN:STANDARD
TZOFFSETFROM:-0500
TZOFFSETTO:-0600
TZNAME:CST
DTSTART:20231105T070000
END:STANDARD
BEGIN:DAYLIGHT
TZOFFSETFROM:-0600
TZOFFSETTO:-0500
TZNAME:CDT
DTSTART:20240310T080000
END:DAYLIGHT
BEGIN:STANDARD
TZOFFSETFROM:-0500
TZOFFSETTO:-0600
TZNAME:CST
DTSTART:20241103T070000
END:STANDARD
BEGIN:DAYLIGHT
TZOFFSETFROM:-0600
TZOFFSETTO:-0500
TZNAME:CDT
DTSTART:20250309T080000
END:DAYLIGHT
BEGIN:STANDARD
TZOFFSETFROM:-0500
TZOFFSETTO:-0600
TZNAME:CST
DTSTART:20251102T070000
END:STANDARD
END:VTIMEZONE
BEGIN:VEVENT
DTSTART;TZID=America/Chicago:20240106T130000
DTEND;TZID=America/Chicago:20240106T170000
DTSTAMP:20260421T174508
CREATED:20231229T000047Z
LAST-MODIFIED:20231229T001601Z
UID:10000136-1704546000-1704560400@dallaspetsalive.org
SUMMARY:New Year\, New Dog! Adoption Event
DESCRIPTION:Dallas Pets Alive Adoption Event at Community Beer Co. Come meet dogs\, enjoy the New Year and beer at the brewery! \nWhere: 3110 Commonwealth Drive Dallas\, TX 75247\nWhen: 1-5PM \nWant to meet a pet who is not at the Container? \nThanks to Texadia Systems\, patrons can search and be matched with foster pets that cannot attend events so they\, too\, can get exposure to potential adopters! Come into the Adoption Container to find your perfect match! \n\n**If you would like more photos to choose from\, you can save their photos from their adoption profile on our website!
URL:https://dallaspetsalive.org/event/new-year-new-dog-adoption-event/
LOCATION:DPA! Adoption Container\, 3110 Commonwealth Dr.\, Dallas\, TX\, 75247\, United States
CATEGORIES:Container
ATTACH;FMTTYPE=image/jpeg:https://dallaspetsalive.org/wp-content/uploads/2023/12/Event-Graphics.jpg
END:VEVENT
BEGIN:VEVENT
DTSTART;TZID=America/Chicago:20240118T180000
DTEND;TZID=America/Chicago:20240118T190000
DTSTAMP:20260421T174508
CREATED:20240108T003425Z
LAST-MODIFIED:20240108T003425Z
UID:10000138-1705600800-1705604400@dallaspetsalive.org
SUMMARY:Cat Behavior Workshop: How to Catify the Environment
DESCRIPTION: CAT BEHAVIOR SOLUTIONS (virtual) WORKSHOP\nTaught by Molly DeVoss with Cat Behavior Solutions\nDate: Thursday\, January 18th\, 2024\nTime: 6pm CST\n \nLocation: Virtual via Zoom https://us06web.zoom.us/j/88591713178\nPlease RSVP to support@dallaspetsalive.org  \nTopic: How to Catify the Environment – Catifying your environment to increase enrichment for your cat is important\, but in doing so\, how do you keep your cat off certain things – like your counters? Join us as Molly talks about catifying the environment and teaching your cat how to know what things is his versus “yours”. \nEvent Link
URL:https://dallaspetsalive.org/event/cat-behavior-workshop-how-to-catify-the-environment/
ATTACH;FMTTYPE=image/jpeg:https://dallaspetsalive.org/wp-content/uploads/2024/01/Catify.jpg
END:VEVENT
BEGIN:VEVENT
DTSTART;TZID=America/Chicago:20240120T120000
DTEND;TZID=America/Chicago:20240120T160000
DTSTAMP:20260421T174508
CREATED:20231229T014643Z
LAST-MODIFIED:20231229T014643Z
UID:10000137-1705752000-1705766400@dallaspetsalive.org
SUMMARY:Queen's Market + DPA Adoption Event
DESCRIPTION:Queens’ Market will be back at Community Beer Co. for their first market of 2024! \nMARKET DETAILS: \n\nSat\, Jan 20th\, 12-4pm\nIndoors at Community Beer Co (3110 Commonwealth Dr)\nFree admission\, family and pet-friendly\nDallas Pets Alive Adoption Container onsite\nWomen-led vendors\nDonation Drive for Genesis Women’s Shelter\nSticker Rally Challenge with free prizes\nFree parking\n\nAdoptable Foster Animals will be onsite to meet! \nWhere: 3110 Commonwealth Drive Dallas\, TX 75247\nWhen: 12 – 4 PM \nWant to meet a pet who is not at the Container? \nThanks to Texadia Systems\, patrons can search and be matched with foster pets that cannot attend events so they\, too\, can get exposure to potential adopters! Come into the Adoption Container to find your perfect match! \n\n**If you would like more photos to choose from\, you can save their photos from their adoption profile on our website!
URL:https://dallaspetsalive.org/event/queens-market-dpa-adoption-event-2/
CATEGORIES:Container
ATTACH;FMTTYPE=image/jpeg:https://dallaspetsalive.org/wp-content/uploads/2023/12/IMG_8892.jpg
END:VEVENT
END:VCALENDAR