BEGIN:VCALENDAR
VERSION:2.0
PRODID:-//Dallas Pets Alive! - ECPv6.15.14//NONSGML v1.0//EN
CALSCALE:GREGORIAN
METHOD:PUBLISH
X-ORIGINAL-URL:https://dallaspetsalive.org
X-WR-CALDESC:Events for Dallas Pets Alive!
REFRESH-INTERVAL;VALUE=DURATION:PT1H
X-Robots-Tag:noindex
X-PUBLISHED-TTL:PT1H
BEGIN:VTIMEZONE
TZID:America/Chicago
BEGIN:DAYLIGHT
TZOFFSETFROM:-0600
TZOFFSETTO:-0500
TZNAME:CDT
DTSTART:20230312T080000
END:DAYLIGHT
BEGIN:STANDARD
TZOFFSETFROM:-0500
TZOFFSETTO:-0600
TZNAME:CST
DTSTART:20231105T070000
END:STANDARD
BEGIN:DAYLIGHT
TZOFFSETFROM:-0600
TZOFFSETTO:-0500
TZNAME:CDT
DTSTART:20240310T080000
END:DAYLIGHT
BEGIN:STANDARD
TZOFFSETFROM:-0500
TZOFFSETTO:-0600
TZNAME:CST
DTSTART:20241103T070000
END:STANDARD
BEGIN:DAYLIGHT
TZOFFSETFROM:-0600
TZOFFSETTO:-0500
TZNAME:CDT
DTSTART:20250309T080000
END:DAYLIGHT
BEGIN:STANDARD
TZOFFSETFROM:-0500
TZOFFSETTO:-0600
TZNAME:CST
DTSTART:20251102T070000
END:STANDARD
END:VTIMEZONE
BEGIN:VEVENT
DTSTART;TZID=America/Chicago:20240118T180000
DTEND;TZID=America/Chicago:20240118T190000
DTSTAMP:20260421T121046
CREATED:20240108T003425Z
LAST-MODIFIED:20240108T003425Z
UID:10000138-1705600800-1705604400@dallaspetsalive.org
SUMMARY:Cat Behavior Workshop: How to Catify the Environment
DESCRIPTION: CAT BEHAVIOR SOLUTIONS (virtual) WORKSHOP\nTaught by Molly DeVoss with Cat Behavior Solutions\nDate: Thursday\, January 18th\, 2024\nTime: 6pm CST\n \nLocation: Virtual via Zoom https://us06web.zoom.us/j/88591713178\nPlease RSVP to support@dallaspetsalive.org  \nTopic: How to Catify the Environment – Catifying your environment to increase enrichment for your cat is important\, but in doing so\, how do you keep your cat off certain things – like your counters? Join us as Molly talks about catifying the environment and teaching your cat how to know what things is his versus “yours”. \nEvent Link
URL:https://dallaspetsalive.org/event/cat-behavior-workshop-how-to-catify-the-environment/
ATTACH;FMTTYPE=image/jpeg:https://dallaspetsalive.org/wp-content/uploads/2024/01/Catify.jpg
END:VEVENT
END:VCALENDAR