BEGIN:VCALENDAR
VERSION:2.0
PRODID:-//Dallas Pets Alive! - ECPv6.15.14//NONSGML v1.0//EN
CALSCALE:GREGORIAN
METHOD:PUBLISH
X-WR-CALNAME:Dallas Pets Alive!
X-ORIGINAL-URL:https://dallaspetsalive.org
X-WR-CALDESC:Events for Dallas Pets Alive!
REFRESH-INTERVAL;VALUE=DURATION:PT1H
X-Robots-Tag:noindex
X-PUBLISHED-TTL:PT1H
BEGIN:VTIMEZONE
TZID:America/Chicago
BEGIN:DAYLIGHT
TZOFFSETFROM:-0600
TZOFFSETTO:-0500
TZNAME:CDT
DTSTART:20220313T080000
END:DAYLIGHT
BEGIN:STANDARD
TZOFFSETFROM:-0500
TZOFFSETTO:-0600
TZNAME:CST
DTSTART:20221106T070000
END:STANDARD
BEGIN:DAYLIGHT
TZOFFSETFROM:-0600
TZOFFSETTO:-0500
TZNAME:CDT
DTSTART:20230312T080000
END:DAYLIGHT
BEGIN:STANDARD
TZOFFSETFROM:-0500
TZOFFSETTO:-0600
TZNAME:CST
DTSTART:20231105T070000
END:STANDARD
BEGIN:DAYLIGHT
TZOFFSETFROM:-0600
TZOFFSETTO:-0500
TZNAME:CDT
DTSTART:20240310T080000
END:DAYLIGHT
BEGIN:STANDARD
TZOFFSETFROM:-0500
TZOFFSETTO:-0600
TZNAME:CST
DTSTART:20241103T070000
END:STANDARD
END:VTIMEZONE
BEGIN:VEVENT
DTSTART;TZID=America/Chicago:20231209T120000
DTEND;TZID=America/Chicago:20231209T170000
DTSTAMP:20260424T073625
CREATED:20231121T060324Z
LAST-MODIFIED:20231121T060324Z
UID:10000102-1702123200-1702141200@dallaspetsalive.org
SUMMARY:CBC's Holiday Market Featuring Santa
DESCRIPTION:Join us for a day of Holiday Shopping and supporting small businesses. DPA will have our very own Santa ready to take pictures with your family\, pups\, or kiddos! For a small donation of $5 you can have a picture with Santy-Paws. This money goes to animals in need! \nOur Santy-Paws will be there during the below times:  \n\nSaturday 12/9 12-5\nSunday 12/10 11-3\n\nA minimum donation of $5 to DPA\, cash\, card or Venmo accepted  \nPictures with Santa going towards a GREAT cause!!!! Dogs\, kids\, families all welcome. 
URL:https://dallaspetsalive.org/event/cbcs-holiday-market-featuring-santa/
LOCATION:DPA! Adoption Container\, 3110 Commonwealth Dr.\, Dallas\, TX\, 75247\, United States
CATEGORIES:Community,Container,Dogs,Social
ATTACH;FMTTYPE=image/jpeg:https://dallaspetsalive.org/wp-content/uploads/2023/11/CBCs-Holiday-Market-Phil-as-Santa-min.jpg
END:VEVENT
BEGIN:VEVENT
DTSTART;TZID=America/Chicago:20231209T160000
DTEND;TZID=America/Chicago:20231209T220000
DTSTAMP:20260424T073625
CREATED:20231122T024146Z
LAST-MODIFIED:20231122T024146Z
UID:10000114-1702137600-1702159200@dallaspetsalive.org
SUMMARY:Dallas International Night Market
DESCRIPTION:Join us for the fun\, festive\, holiday-themed Night Market! \nThis one-of-a-kind event will celebrate the diversity of our city’s food\, culture\, and art. The event will feature over 50 vendors and still growing\, live music\, and entertainment. It is open to all ages and FREE to attend.
URL:https://dallaspetsalive.org/event/dallas-international-night-market/
LOCATION:Dallas International District\, 5580 Peterson Ln\, Dallas\, TX\, 75240\, United States
CATEGORIES:Celebration,Community,Social
ATTACH;FMTTYPE=image/jpeg:https://dallaspetsalive.org/wp-content/uploads/2023/11/Event-Covers-2.jpg
END:VEVENT
BEGIN:VEVENT
DTSTART;TZID=America/Chicago:20231215T173000
DTEND;TZID=America/Chicago:20231215T193000
DTSTAMP:20260424T073625
CREATED:20231122T020200Z
LAST-MODIFIED:20231122T020650Z
UID:10000103-1702661400-1702668600@dallaspetsalive.org
SUMMARY:Kiddos Reading to Foster Pups
DESCRIPTION:Join us for an evening where young readers become the storytellers for our foster dogs! Kids of all ages will have the opportunity to read their favorite stories to our foster pups\, providing valuable socialization for our dogs and helping children develop their reading skills. Let’s create unforgettable memories\, one story at a time! \nSign up here!
URL:https://dallaspetsalive.org/event/kiddos-reading-to-foster-pups-december/
LOCATION:DPA! Adoption Container\, 3110 Commonwealth Dr.\, Dallas\, TX\, 75247\, United States
CATEGORIES:Community,Container,Dogs,Social
ATTACH;FMTTYPE=image/jpeg:https://dallaspetsalive.org/wp-content/uploads/2023/11/Kiddos-Reading-to-Foster-Pups-min.jpg
END:VEVENT
BEGIN:VEVENT
DTSTART;TZID=America/Chicago:20231216T130000
DTEND;TZID=America/Chicago:20231216T170000
DTSTAMP:20260424T073625
CREATED:20231122T020626Z
LAST-MODIFIED:20231209T175257Z
UID:10000104-1702731600-1702746000@dallaspetsalive.org
SUMMARY:Caturday
DESCRIPTION:It’s the purrrfect way to start the weekend. We’re rolling out the red carpet for our feline friends\, and you’re invited to enjoy a day filled with all things cat-tastic. Come and mingle with fellow cat enthusiasts\, share your favorite cat stories\, and meet some of the most adorable adoptable cats seeking their forever homes.
URL:https://dallaspetsalive.org/event/caturday-december/
LOCATION:DPA! Adoption Container\, 3110 Commonwealth Dr.\, Dallas\, TX\, 75247\, United States
CATEGORIES:Cats,Community,Container,Social
ATTACH;FMTTYPE=image/jpeg:https://dallaspetsalive.org/wp-content/uploads/2023/11/December-Caturday.jpg
END:VEVENT
END:VCALENDAR