BEGIN:VCALENDAR
VERSION:2.0
PRODID:-//Dallas Pets Alive! - ECPv6.15.14//NONSGML v1.0//EN
CALSCALE:GREGORIAN
METHOD:PUBLISH
X-ORIGINAL-URL:https://dallaspetsalive.org
X-WR-CALDESC:Events for Dallas Pets Alive!
REFRESH-INTERVAL;VALUE=DURATION:PT1H
X-Robots-Tag:noindex
X-PUBLISHED-TTL:PT1H
BEGIN:VTIMEZONE
TZID:America/Chicago
BEGIN:DAYLIGHT
TZOFFSETFROM:-0600
TZOFFSETTO:-0500
TZNAME:CDT
DTSTART:20250309T080000
END:DAYLIGHT
BEGIN:STANDARD
TZOFFSETFROM:-0500
TZOFFSETTO:-0600
TZNAME:CST
DTSTART:20251102T070000
END:STANDARD
BEGIN:DAYLIGHT
TZOFFSETFROM:-0600
TZOFFSETTO:-0500
TZNAME:CDT
DTSTART:20260308T080000
END:DAYLIGHT
BEGIN:STANDARD
TZOFFSETFROM:-0500
TZOFFSETTO:-0600
TZNAME:CST
DTSTART:20261101T070000
END:STANDARD
BEGIN:DAYLIGHT
TZOFFSETFROM:-0600
TZOFFSETTO:-0500
TZNAME:CDT
DTSTART:20270314T080000
END:DAYLIGHT
BEGIN:STANDARD
TZOFFSETFROM:-0500
TZOFFSETTO:-0600
TZNAME:CST
DTSTART:20271107T070000
END:STANDARD
END:VTIMEZONE
BEGIN:VEVENT
DTSTART;TZID=America/Chicago:20260502T120000
DTEND;TZID=America/Chicago:20260502T133000
DTSTAMP:20260421T153551
CREATED:20260408T013100Z
LAST-MODIFIED:20260408T013130Z
UID:10000956-1777723200-1777728600@dallaspetsalive.org
SUMMARY:Pawlicious Cookies & Co Cupcake Class
DESCRIPTION:Decorate. Create. Treat your pup!\nJoin us for a paws-itvely fun dog cupcake decorating class and some bingo. Perfect for dog lovers of all ages. \n\n\nWhat your $20 ticket gets you: \n\nDecorate sweet treats for your pup + play Bingo to win fun prizes!\nA small goody bag with a dog safe recipe to make at home and some dog biscuits\nYour decorated cupcake(s) to take home\nExperience with adoptable puppies or other pets onsite\nHalf of the proceeds will be donated to help our animals!\n\nGet your tickets here.
URL:https://dallaspetsalive.org/event/pawlicious-cookies-co-cupcake-class/
LOCATION:DPA! Adoption Container\, 3110 Commonwealth Dr.\, Dallas\, TX\, 75247\, United States
CATEGORIES:Community,Container,Social
ATTACH;FMTTYPE=image/jpeg:https://dallaspetsalive.org/wp-content/uploads/2026/04/Flyer-Cupcake-Class-1920-x-1080-px_page-0001.jpg
END:VEVENT
BEGIN:VEVENT
DTSTART;TZID=America/Chicago:20260502T123000
DTEND;TZID=America/Chicago:20260502T163000
DTSTAMP:20260421T153551
CREATED:20260130T010318Z
LAST-MODIFIED:20260130T010640Z
UID:10000314-1777725000-1777739400@dallaspetsalive.org
SUMMARY:Caturday at the Snuggle Spot
DESCRIPTION:Every Saturday join us from 12:30pm to 4:30pm for Caturday at the Snuggle Spot located at DPA’s Adoption Container at Community Beer Company \n  \nMeet adoptable foster cats and participate in interactive activities such as: \n😻 Playing with adoptable cats and kittens \n😻 Using our innovative\, matchmaking software to find a cat fit for your home \n  \nCome spend a purr-fect day supporting cats in our program and connecting with our cat loving community! \nQuestions?  \nEmail container@dallaspetsalive.org
URL:https://dallaspetsalive.org/event/caturday-at-the-snuggle-spot-2/2026-05-02/
LOCATION:DPA! Adoption Container\, 3110 Commonwealth Dr.\, Dallas\, TX\, 75247\, United States
CATEGORIES:Adoption,Cats,Container,Social
ATTACH;FMTTYPE=image/jpeg:https://dallaspetsalive.org/wp-content/uploads/2025/11/Caturday-Snuggle-Spot.jpg
END:VEVENT
BEGIN:VEVENT
DTSTART;TZID=America/Chicago:20260509T123000
DTEND;TZID=America/Chicago:20260509T163000
DTSTAMP:20260421T153551
CREATED:20260130T010318Z
LAST-MODIFIED:20260130T010640Z
UID:10000315-1778329800-1778344200@dallaspetsalive.org
SUMMARY:Caturday at the Snuggle Spot
DESCRIPTION:Every Saturday join us from 12:30pm to 4:30pm for Caturday at the Snuggle Spot located at DPA’s Adoption Container at Community Beer Company \n  \nMeet adoptable foster cats and participate in interactive activities such as: \n😻 Playing with adoptable cats and kittens \n😻 Using our innovative\, matchmaking software to find a cat fit for your home \n  \nCome spend a purr-fect day supporting cats in our program and connecting with our cat loving community! \nQuestions?  \nEmail container@dallaspetsalive.org
URL:https://dallaspetsalive.org/event/caturday-at-the-snuggle-spot-2/2026-05-09/
LOCATION:DPA! Adoption Container\, 3110 Commonwealth Dr.\, Dallas\, TX\, 75247\, United States
CATEGORIES:Adoption,Cats,Container,Social
ATTACH;FMTTYPE=image/jpeg:https://dallaspetsalive.org/wp-content/uploads/2025/11/Caturday-Snuggle-Spot.jpg
END:VEVENT
BEGIN:VEVENT
DTSTART;TZID=America/Chicago:20260516T123000
DTEND;TZID=America/Chicago:20260516T163000
DTSTAMP:20260421T153551
CREATED:20260130T010318Z
LAST-MODIFIED:20260130T010640Z
UID:10000316-1778934600-1778949000@dallaspetsalive.org
SUMMARY:Caturday at the Snuggle Spot
DESCRIPTION:Every Saturday join us from 12:30pm to 4:30pm for Caturday at the Snuggle Spot located at DPA’s Adoption Container at Community Beer Company \n  \nMeet adoptable foster cats and participate in interactive activities such as: \n😻 Playing with adoptable cats and kittens \n😻 Using our innovative\, matchmaking software to find a cat fit for your home \n  \nCome spend a purr-fect day supporting cats in our program and connecting with our cat loving community! \nQuestions?  \nEmail container@dallaspetsalive.org
URL:https://dallaspetsalive.org/event/caturday-at-the-snuggle-spot-2/2026-05-16/
LOCATION:DPA! Adoption Container\, 3110 Commonwealth Dr.\, Dallas\, TX\, 75247\, United States
CATEGORIES:Adoption,Cats,Container,Social
ATTACH;FMTTYPE=image/jpeg:https://dallaspetsalive.org/wp-content/uploads/2025/11/Caturday-Snuggle-Spot.jpg
END:VEVENT
BEGIN:VEVENT
DTSTART;TZID=America/Chicago:20260517T120000
DTEND;TZID=America/Chicago:20260517T140000
DTSTAMP:20260421T153551
CREATED:20251230T042228Z
LAST-MODIFIED:20260103T210703Z
UID:10000412-1779019200-1779026400@dallaspetsalive.org
SUMMARY:Tales to Tails: Reading to Rescue Pets
DESCRIPTION:📚🐾 Read to Rescue Pets at Dallas Pets Alive 🐾📚 \nSign up your kiddo to read to adorable\, adoptable rescue dogs and cats. Young readers become the storytellers while our foster pets enjoy calm companionship and valuable socialization. It is a win for confidence\, compassion\, and cuddles. 💖 \nKids of all ages are welcome to bring their favorite book\, or choose one of ours when they arrive. Together we will create unforgettable memories\, one story at a time. \n💵 Cost: $5 donation per child. Donate ahead of time using the link provided\, or pay with cash or card at the event. \n⭐ Accessibility matters to us: We want every child to have the opportunity to read to our pets. Scholarships are available on a case-by-case basis. Please do not hesitate to ask by emailing container@dallaspetsalive.org. \n❓ Questions: Email container@dallaspetsalive.org \nBring a book\, bring a kiddo\, and help our rescue pets fall in love with storytime. 📖🐶🐱 \n🎟️ Space is limited! Sign up here: https://bit.ly/DPAReadingtoFosters
URL:https://dallaspetsalive.org/event/tales-to-tails-reading-to-rescue-pets/2026-05-17/
LOCATION:DPA! Adoption Container\, 3110 Commonwealth Dr.\, Dallas\, TX\, 75247\, United States
CATEGORIES:Adoption,Container,Dogs,Social
ATTACH;FMTTYPE=image/jpeg:https://dallaspetsalive.org/wp-content/uploads/2025/12/Tales-to-Tails.jpg
END:VEVENT
BEGIN:VEVENT
DTSTART;TZID=America/Chicago:20260523T123000
DTEND;TZID=America/Chicago:20260523T163000
DTSTAMP:20260421T153551
CREATED:20260130T010318Z
LAST-MODIFIED:20260130T010640Z
UID:10000317-1779539400-1779553800@dallaspetsalive.org
SUMMARY:Caturday at the Snuggle Spot
DESCRIPTION:Every Saturday join us from 12:30pm to 4:30pm for Caturday at the Snuggle Spot located at DPA’s Adoption Container at Community Beer Company \n  \nMeet adoptable foster cats and participate in interactive activities such as: \n😻 Playing with adoptable cats and kittens \n😻 Using our innovative\, matchmaking software to find a cat fit for your home \n  \nCome spend a purr-fect day supporting cats in our program and connecting with our cat loving community! \nQuestions?  \nEmail container@dallaspetsalive.org
URL:https://dallaspetsalive.org/event/caturday-at-the-snuggle-spot-2/2026-05-23/
LOCATION:DPA! Adoption Container\, 3110 Commonwealth Dr.\, Dallas\, TX\, 75247\, United States
CATEGORIES:Adoption,Cats,Container,Social
ATTACH;FMTTYPE=image/jpeg:https://dallaspetsalive.org/wp-content/uploads/2025/11/Caturday-Snuggle-Spot.jpg
END:VEVENT
BEGIN:VEVENT
DTSTART;TZID=America/Chicago:20260530T120000
DTEND;TZID=America/Chicago:20260530T170000
DTSTAMP:20260421T153551
CREATED:20260421T012702Z
LAST-MODIFIED:20260421T012837Z
UID:10000957-1780142400-1780160400@dallaspetsalive.org
SUMMARY:DPA Pet Vendor Market: Summer Kick Off Edition
DESCRIPTION:Summer is here\, Dallas! Kick off the season with a dog-friendly afternoon of sunshine\, shopping\, and supporting rescue pets at the Dallas Pets Alive Adoption Container. \n📅 Saturday\, May 30\n ⏰ 12 – 5 PM\n 📍 Community Beer Co. | 3110 Commonwealth Dr\, Dallas\, TX \nWe’re bringing all the summer vibes with: \n\n 🍦 Pup Cups ($1 donation)\n 🐶 Adoptable pups and snuggly cats\n 🛍️ Local pet vendors and makers\n 🍺 Cold beer and brewery vibes \nBring your pup and shop a curated lineup of local small businesses offering treats\, toys\, accessories\, art\, and more. Grab a pup cup\, snap a summer photo\, and soak up a fun afternoon with fellow animal lovers. \nWhether you’re here to spoil your dog\, support rescue\, or just enjoy a sunny day out\, this is your summer kickoff plan. \n💛 Dog-friendly brewery\n💛 Shop small and local\n💛 Rescue pets + summer vibes \nQuestions? container@dallaspetsalive.org
URL:https://dallaspetsalive.org/event/dpa-pet-vendor-market-summer-kick-off-edition/
LOCATION:DPA! Adoption Container\, 3110 Commonwealth Dr.\, Dallas\, TX\, 75247\, United States
CATEGORIES:Community,Container,Dogs,Social
ATTACH;FMTTYPE=image/jpeg:https://dallaspetsalive.org/wp-content/uploads/2026/04/May-Summer-Kick-Off-DPA-Vendor-Market.jpg
END:VEVENT
BEGIN:VEVENT
DTSTART;TZID=America/Chicago:20260530T123000
DTEND;TZID=America/Chicago:20260530T163000
DTSTAMP:20260421T153551
CREATED:20260130T010318Z
LAST-MODIFIED:20260130T010640Z
UID:10000318-1780144200-1780158600@dallaspetsalive.org
SUMMARY:Caturday at the Snuggle Spot
DESCRIPTION:Every Saturday join us from 12:30pm to 4:30pm for Caturday at the Snuggle Spot located at DPA’s Adoption Container at Community Beer Company \n  \nMeet adoptable foster cats and participate in interactive activities such as: \n😻 Playing with adoptable cats and kittens \n😻 Using our innovative\, matchmaking software to find a cat fit for your home \n  \nCome spend a purr-fect day supporting cats in our program and connecting with our cat loving community! \nQuestions?  \nEmail container@dallaspetsalive.org
URL:https://dallaspetsalive.org/event/caturday-at-the-snuggle-spot-2/2026-05-30/
LOCATION:DPA! Adoption Container\, 3110 Commonwealth Dr.\, Dallas\, TX\, 75247\, United States
CATEGORIES:Adoption,Cats,Container,Social
ATTACH;FMTTYPE=image/jpeg:https://dallaspetsalive.org/wp-content/uploads/2025/11/Caturday-Snuggle-Spot.jpg
END:VEVENT
END:VCALENDAR