BEGIN:VCALENDAR
VERSION:2.0
PRODID:-//Dallas Pets Alive! - ECPv6.15.14//NONSGML v1.0//EN
CALSCALE:GREGORIAN
METHOD:PUBLISH
X-ORIGINAL-URL:https://dallaspetsalive.org
X-WR-CALDESC:Events for Dallas Pets Alive!
REFRESH-INTERVAL;VALUE=DURATION:PT1H
X-Robots-Tag:noindex
X-PUBLISHED-TTL:PT1H
BEGIN:VTIMEZONE
TZID:America/Chicago
BEGIN:DAYLIGHT
TZOFFSETFROM:-0600
TZOFFSETTO:-0500
TZNAME:CDT
DTSTART:20250309T080000
END:DAYLIGHT
BEGIN:STANDARD
TZOFFSETFROM:-0500
TZOFFSETTO:-0600
TZNAME:CST
DTSTART:20251102T070000
END:STANDARD
BEGIN:DAYLIGHT
TZOFFSETFROM:-0600
TZOFFSETTO:-0500
TZNAME:CDT
DTSTART:20260308T080000
END:DAYLIGHT
BEGIN:STANDARD
TZOFFSETFROM:-0500
TZOFFSETTO:-0600
TZNAME:CST
DTSTART:20261101T070000
END:STANDARD
BEGIN:DAYLIGHT
TZOFFSETFROM:-0600
TZOFFSETTO:-0500
TZNAME:CDT
DTSTART:20270314T080000
END:DAYLIGHT
BEGIN:STANDARD
TZOFFSETFROM:-0500
TZOFFSETTO:-0600
TZNAME:CST
DTSTART:20271107T070000
END:STANDARD
END:VTIMEZONE
BEGIN:VEVENT
DTSTART;TZID=America/Chicago:20260103T123000
DTEND;TZID=America/Chicago:20260103T163000
DTSTAMP:20260421T181250
CREATED:20251127T012841Z
LAST-MODIFIED:20251230T040646Z
UID:10000297-1767443400-1767457800@dallaspetsalive.org
SUMMARY:Caturday at the Snuggle Spot
DESCRIPTION:Every Saturday join us from 12:30pm to 4:30pm for Caturday at the Snuggle Spot located at DPA’s Adoption Container at Community Beer Company \n  \nMeet adoptable foster cats and participate in interactive activities such as: \n😻 Playing with adoptable cats and kittens \n😻 Using our innovative\, matchmaking software to find a cat fit for your home \n  \nCome spend a purr-fect day supporting cats in our program and connecting with our cat loving community! \nQuestions?  \nEmail container@dallaspetsalive.org
URL:https://dallaspetsalive.org/event/caturday-at-the-snuggle-spot/2026-01-03/
LOCATION:DPA! Adoption Container\, 3110 Commonwealth Dr.\, Dallas\, TX\, 75247\, United States
CATEGORIES:Adoption,Cats,Container,Social
ATTACH;FMTTYPE=image/jpeg:https://dallaspetsalive.org/wp-content/uploads/2025/11/Caturday-Snuggle-Spot.jpg
END:VEVENT
BEGIN:VEVENT
DTSTART;TZID=America/Chicago:20260110T123000
DTEND;TZID=America/Chicago:20260110T163000
DTSTAMP:20260421T181250
CREATED:20251127T012841Z
LAST-MODIFIED:20251230T040646Z
UID:10000298-1768048200-1768062600@dallaspetsalive.org
SUMMARY:Caturday at the Snuggle Spot
DESCRIPTION:Every Saturday join us from 12:30pm to 4:30pm for Caturday at the Snuggle Spot located at DPA’s Adoption Container at Community Beer Company \n  \nMeet adoptable foster cats and participate in interactive activities such as: \n😻 Playing with adoptable cats and kittens \n😻 Using our innovative\, matchmaking software to find a cat fit for your home \n  \nCome spend a purr-fect day supporting cats in our program and connecting with our cat loving community! \nQuestions?  \nEmail container@dallaspetsalive.org
URL:https://dallaspetsalive.org/event/caturday-at-the-snuggle-spot/2026-01-10/
LOCATION:DPA! Adoption Container\, 3110 Commonwealth Dr.\, Dallas\, TX\, 75247\, United States
CATEGORIES:Adoption,Cats,Container,Social
ATTACH;FMTTYPE=image/jpeg:https://dallaspetsalive.org/wp-content/uploads/2025/11/Caturday-Snuggle-Spot.jpg
END:VEVENT
BEGIN:VEVENT
DTSTART;TZID=America/Chicago:20260117T123000
DTEND;TZID=America/Chicago:20260117T163000
DTSTAMP:20260421T181250
CREATED:20251127T012841Z
LAST-MODIFIED:20251230T040646Z
UID:10000299-1768653000-1768667400@dallaspetsalive.org
SUMMARY:Caturday at the Snuggle Spot
DESCRIPTION:Every Saturday join us from 12:30pm to 4:30pm for Caturday at the Snuggle Spot located at DPA’s Adoption Container at Community Beer Company \n  \nMeet adoptable foster cats and participate in interactive activities such as: \n😻 Playing with adoptable cats and kittens \n😻 Using our innovative\, matchmaking software to find a cat fit for your home \n  \nCome spend a purr-fect day supporting cats in our program and connecting with our cat loving community! \nQuestions?  \nEmail container@dallaspetsalive.org
URL:https://dallaspetsalive.org/event/caturday-at-the-snuggle-spot/2026-01-17/
LOCATION:DPA! Adoption Container\, 3110 Commonwealth Dr.\, Dallas\, TX\, 75247\, United States
CATEGORIES:Adoption,Cats,Container,Social
ATTACH;FMTTYPE=image/jpeg:https://dallaspetsalive.org/wp-content/uploads/2025/11/Caturday-Snuggle-Spot.jpg
END:VEVENT
BEGIN:VEVENT
DTSTART;TZID=America/Chicago:20260124T123000
DTEND;TZID=America/Chicago:20260124T163000
DTSTAMP:20260421T181251
CREATED:20251127T012841Z
LAST-MODIFIED:20251230T040646Z
UID:10000300-1769257800-1769272200@dallaspetsalive.org
SUMMARY:Caturday at the Snuggle Spot
DESCRIPTION:Every Saturday join us from 12:30pm to 4:30pm for Caturday at the Snuggle Spot located at DPA’s Adoption Container at Community Beer Company \n  \nMeet adoptable foster cats and participate in interactive activities such as: \n😻 Playing with adoptable cats and kittens \n😻 Using our innovative\, matchmaking software to find a cat fit for your home \n  \nCome spend a purr-fect day supporting cats in our program and connecting with our cat loving community! \nQuestions?  \nEmail container@dallaspetsalive.org
URL:https://dallaspetsalive.org/event/caturday-at-the-snuggle-spot/2026-01-24/
LOCATION:DPA! Adoption Container\, 3110 Commonwealth Dr.\, Dallas\, TX\, 75247\, United States
CATEGORIES:Adoption,Cats,Container,Social
ATTACH;FMTTYPE=image/jpeg:https://dallaspetsalive.org/wp-content/uploads/2025/11/Caturday-Snuggle-Spot.jpg
END:VEVENT
BEGIN:VEVENT
DTSTART;TZID=America/Chicago:20260124T130000
DTEND;TZID=America/Chicago:20260124T180000
DTSTAMP:20260421T181251
CREATED:20251230T041131Z
LAST-MODIFIED:20251230T041131Z
UID:10000406-1769259600-1769277600@dallaspetsalive.org
SUMMARY:National Peanut Butter Day
DESCRIPTION:🥜🐶 National Peanut Butter Day at the Adoption Container 🐶🥜 \nWe are celebrating National Peanut Butter Day with two very cute\, very sticky activities for dogs and dog lovers alike. Come hang out\, treat your pup\, and support rescue pets while you are at it. 💖 \n📅 When: Saturday\, January 24 \n🕛 Brewery hours: 12–7 PM \n🐾 PB activities available: 1–6 PM \n✨ PB Day Activities: \n\n🥜 Peanut Butter Pup Cups – $3 donation – A simple\, delicious peanut butter treat your dog will love.\n🎨 Peanut Butter Canvas Craft – $5 donation – Watch your pup create their own masterpiece by licking peanut butter through a canvas. Messy\, adorable\, and frame-worthy.\n\nAll donations go directly back to support foster pets and lifesaving programs. Bring your dog\, grab a beer\, and help us spread a little peanut butter joy. 🐾🥜 \nQuestions? Email container@dallaspetsalive.org \nWe cannot wait to see you there.
URL:https://dallaspetsalive.org/event/national-peanut-butter-day/
LOCATION:DPA! Adoption Container\, 3110 Commonwealth Dr.\, Dallas\, TX\, 75247\, United States
CATEGORIES:Container,Dogs,Social
ATTACH;FMTTYPE=image/jpeg:https://dallaspetsalive.org/wp-content/uploads/2025/12/National-PB-Day.jpg
END:VEVENT
BEGIN:VEVENT
DTSTART;TZID=America/Chicago:20260131T120000
DTEND;TZID=America/Chicago:20260131T170000
DTSTAMP:20260421T181251
CREATED:20251230T042609Z
LAST-MODIFIED:20251230T042609Z
UID:10000419-1769860800-1769878800@dallaspetsalive.org
SUMMARY:Pet Vendor Market
DESCRIPTION:Join us for a fun\, dog-friendly afternoon of shopping\, sipping\, and supporting rescue pets at the Dallas Pets Alive Pet Vendor Market. \nBring your pup and explore a curated lineup of local pet vendors\, makers\, and small businesses offering treats\, toys\, accessories\, art\, and more. Grab a beer\, meet fellow dog lovers\, and enjoy a laid back brewery vibe while shopping small and supporting a great cause. \n\n🐶 Dog friendly brewery\n🛍️ Shop small and local\n🍺 Cold beer on tap\n🐾 Rescue pets and good vibes\n\nWhether you are coming to browse\, spoil your dog\, or just hang out with friends and fosters\, this is the perfect Saturday plan. \nWe cannot wait to see you and your pups there. 💛🐕 \nQuestions? Email container@dallaspetsalive.org 
URL:https://dallaspetsalive.org/event/pet-vendor-market/
LOCATION:DPA! Adoption Container\, 3110 Commonwealth Dr.\, Dallas\, TX\, 75247\, United States
CATEGORIES:Community,Container,Dogs,Social
ATTACH;FMTTYPE=image/jpeg:https://dallaspetsalive.org/wp-content/uploads/2025/12/NY-DPA-Vendor-Market.jpg
END:VEVENT
END:VCALENDAR