BEGIN:VCALENDAR
VERSION:2.0
PRODID:-//Dallas Pets Alive! - ECPv6.15.14//NONSGML v1.0//EN
CALSCALE:GREGORIAN
METHOD:PUBLISH
X-ORIGINAL-URL:https://dallaspetsalive.org
X-WR-CALDESC:Events for Dallas Pets Alive!
REFRESH-INTERVAL;VALUE=DURATION:PT1H
X-Robots-Tag:noindex
X-PUBLISHED-TTL:PT1H
BEGIN:VTIMEZONE
TZID:America/Chicago
BEGIN:DAYLIGHT
TZOFFSETFROM:-0600
TZOFFSETTO:-0500
TZNAME:CDT
DTSTART:20240310T080000
END:DAYLIGHT
BEGIN:STANDARD
TZOFFSETFROM:-0500
TZOFFSETTO:-0600
TZNAME:CST
DTSTART:20241103T070000
END:STANDARD
BEGIN:DAYLIGHT
TZOFFSETFROM:-0600
TZOFFSETTO:-0500
TZNAME:CDT
DTSTART:20250309T080000
END:DAYLIGHT
BEGIN:STANDARD
TZOFFSETFROM:-0500
TZOFFSETTO:-0600
TZNAME:CST
DTSTART:20251102T070000
END:STANDARD
BEGIN:DAYLIGHT
TZOFFSETFROM:-0600
TZOFFSETTO:-0500
TZNAME:CDT
DTSTART:20260308T080000
END:DAYLIGHT
BEGIN:STANDARD
TZOFFSETFROM:-0500
TZOFFSETTO:-0600
TZNAME:CST
DTSTART:20261101T070000
END:STANDARD
END:VTIMEZONE
BEGIN:VEVENT
DTSTART;TZID=America/Chicago:20250906T123000
DTEND;TZID=America/Chicago:20250906T163000
DTSTAMP:20260421T235841
CREATED:20250828T011018Z
LAST-MODIFIED:20251127T012329Z
UID:10000282-1757161800-1757176200@dallaspetsalive.org
SUMMARY:Caturday at the Snuggle Spot
DESCRIPTION:Every Saturday\, join us from 12:30 pm to 4:30 pm for Caturday at the Snuggle Spot located at DPA’s Adoption Container at Community Beer Company \nMeet adoptable foster cats and participate in interactive activities such as: \n😻 Playing with adoptable cats and kittens \n😻 Using our innovative\, matchmaking software to find a cat fit for your home \n  \nCome spend a purr-fect day supporting cats in our program and connecting with our cat-loving community! \nQuestions?  \nEmail container@dallaspetsalive.org
URL:https://dallaspetsalive.org/event/caturday-at-the-snuggle-spot2/
LOCATION:DPA! Adoption Container\, 3110 Commonwealth Dr.\, Dallas\, TX\, 75247\, United States
CATEGORIES:Adoption,Cats,Container,Social
ATTACH;FMTTYPE=image/jpeg:https://dallaspetsalive.org/wp-content/uploads/2025/08/SNUGGLE-SPOT.jpg
END:VEVENT
BEGIN:VEVENT
DTSTART;TZID=America/Chicago:20250913T123000
DTEND;TZID=America/Chicago:20250913T163000
DTSTAMP:20260421T235841
CREATED:20250828T011402Z
LAST-MODIFIED:20250831T010646Z
UID:10000283-1757766600-1757781000@dallaspetsalive.org
SUMMARY:Caturday At The Snuggle Spot
DESCRIPTION:Every Saturday\, join us from 12:30 pm to 4:30 pm for Caturday at the Snuggle Spot located at DPA’s Adoption Container at Community Beer Company \nMeet adoptable foster cats and participate in interactive activities such as: \n😻 Playing with adoptable cats and kittens \n😻 Using our innovative\, matchmaking software to find a cat fit for your home \n  \nCome spend a purr-fect day supporting cats in our program and connecting with our cat-loving community! \nQuestions? \nEmail container@dallaspetsalive.org
URL:https://dallaspetsalive.org/event/caturday-at-the-snuggle-spot-9-13/
LOCATION:DPA! Adoption Container\, 3110 Commonwealth Dr.\, Dallas\, TX\, 75247\, United States
CATEGORIES:Adoption,Cats,Container,Social
ATTACH;FMTTYPE=image/jpeg:https://dallaspetsalive.org/wp-content/uploads/2025/08/SNUGGLE-SPOT.jpg
END:VEVENT
BEGIN:VEVENT
DTSTART;TZID=America/Chicago:20250919T173000
DTEND;TZID=America/Chicago:20250919T193000
DTSTAMP:20260421T235841
CREATED:20250107T015751Z
LAST-MODIFIED:20250107T015751Z
UID:10000256-1758303000-1758310200@dallaspetsalive.org
SUMMARY:Tales to Tails
DESCRIPTION:Sign up your little one today to become a ‘Tales and Tails’ volunteer\, where they can read their favorite stories to our adorable and adoptable foster dogs. \n\nWe’re creating joyful moments and building a brighter future for both children and our furry companions. Join us for an evening where young readers become the storytellers for our foster dogs! Kids of all ages will have the opportunity to read their favorite stories to our foster pups\, providing valuable socialization for our dogs and helping children develop their reading skills. Let’s create unforgettable memories\, one story at a time.\n\nIt is BYOB  – bring your own book\, or we will have options for your kiddo(s) to pick from.\n\nSign Up Here: https://bit.ly/DPAReadingtoFosters\n\n\nQuestions? Email container@dallaspetsalive.org\n \n2025 Dates:\n\nFriday\, January 17th\, 5:30-7:30PM\nFriday\, February 21st\, 5:30-7:30PM\nFriday\, March 21st\, 5:30-7:30PM\nFriday\, April 18th\, 5:30-7:30PM\nFriday\, May 16th\, 5:30-7:30PM\nFriday\, June 20th\, 5:30-7:30PM\nFriday\, July 18th\, 5:30-7:30PM\nFriday\, August 15th\, 5:30-7:30PM\nFriday\, September 19th\, 5:30-7:30PM\nFriday\, October 17th\, 5:30-7:30PM\nFriday\, November 21st\, 5:30-7:30PM\nFriday\, December 19th\, 5:30-7:30PM
URL:https://dallaspetsalive.org/event/tales-to-tails-september-2025/
LOCATION:DPA! Adoption Container\, 3110 Commonwealth Dr.\, Dallas\, TX\, 75247\, United States
CATEGORIES:Adoption,Container,Dogs,Social
ATTACH;FMTTYPE=image/jpeg:https://dallaspetsalive.org/wp-content/uploads/2025/01/Tales-to-Tails-Graphic.jpg
END:VEVENT
BEGIN:VEVENT
DTSTART;TZID=America/Chicago:20250920T123000
DTEND;TZID=America/Chicago:20250920T163000
DTSTAMP:20260421T235841
CREATED:20250828T011427Z
LAST-MODIFIED:20250831T010817Z
UID:10000284-1758371400-1758385800@dallaspetsalive.org
SUMMARY:Caturday At The Snuggle Spot
DESCRIPTION:Every Saturday\, join us from 12:30 pm to 4:30 pm for Caturday at the Snuggle Spot located at DPA’s Adoption Container at Community Beer Company \nMeet adoptable foster cats and participate in interactive activities such as: \n😻 Playing with adoptable cats and kittens \n😻 Using our innovative\, matchmaking software to find a cat fit for your home \n  \nCome spend a purr-fect day supporting cats in our program and connecting with our cat-loving community! \nQuestions? \nEmail container@dallaspetsalive.org
URL:https://dallaspetsalive.org/event/caturday-at-the-snuggle-spot-9-20/
LOCATION:DPA! Adoption Container\, 3110 Commonwealth Dr.\, Dallas\, TX\, 75247\, United States
CATEGORIES:Adoption,Cats,Container,Social
ATTACH;FMTTYPE=image/jpeg:https://dallaspetsalive.org/wp-content/uploads/2025/08/SNUGGLE-SPOT.jpg
END:VEVENT
BEGIN:VEVENT
DTSTART;TZID=America/Chicago:20250927T120000
DTEND;TZID=America/Chicago:20250927T170000
DTSTAMP:20260421T235841
CREATED:20250828T012113Z
LAST-MODIFIED:20250828T012113Z
UID:10000286-1758974400-1758992400@dallaspetsalive.org
SUMMARY:Barktoberfest Pet Vendor & Adoption Event
DESCRIPTION:Get ready for Barktoberfest! Join us at Community Beer Co. for an afternoon packed with adoptable pets\, local vendors\, cold beer\, and plenty of fall fun. \nBring your pup and enjoy: \n\n🍺 $2 doggy “beer” (bone broth and whip cream) – all donations support rescue efforts \n📸 Oktoberfest photo op for you and your dog\n🛍️ Local pet-friendly vendors \n🏡 Adoptable pets looking for their forever homes\n\nIt’s the paw-fect way to celebrate the season\, support animal rescue\, and enjoy a fall day with friends (two- and four-legged alike). \n📍The Adoption Container is located at Community Beer Company\, 3110 Commonwealth Dr\, Dallas\, TX 75247 \nQuestions? Email container@dallaspetsalive.org
URL:https://dallaspetsalive.org/event/barktoberfest-pet-vendor-adoption-event/
LOCATION:DPA! Adoption Container\, 3110 Commonwealth Dr.\, Dallas\, TX\, 75247\, United States
CATEGORIES:Adoption,Community,Container,Social
ATTACH;FMTTYPE=image/jpeg:https://dallaspetsalive.org/wp-content/uploads/2025/08/Copy-of-Adoption-Container-Event-Graphics-1.jpg
END:VEVENT
BEGIN:VEVENT
DTSTART;TZID=America/Chicago:20250927T123000
DTEND;TZID=America/Chicago:20250927T163000
DTSTAMP:20260421T235841
CREATED:20250828T011846Z
LAST-MODIFIED:20250831T010901Z
UID:10000285-1758976200-1758990600@dallaspetsalive.org
SUMMARY:Caturday At The Snuggle Spot
DESCRIPTION:Every Saturday\, join us from 12:30 pm to 4:30 pm for Caturday at the Snuggle Spot located at DPA’s Adoption Container at Community Beer Company \nMeet adoptable foster cats and participate in interactive activities such as: \n😻 Playing with adoptable cats and kittens \n😻 Using our innovative\, matchmaking software to find a cat fit for your home \n  \nCome spend a purr-fect day supporting cats in our program and connecting with our cat-loving community! \nQuestions? \nEmail container@dallaspetsalive.org
URL:https://dallaspetsalive.org/event/caturday-at-the-snuggle-spot-9-27/
LOCATION:DPA! Adoption Container\, 3110 Commonwealth Dr.\, Dallas\, TX\, 75247\, United States
CATEGORIES:Adoption,Cats,Container,Social
ATTACH;FMTTYPE=image/jpeg:https://dallaspetsalive.org/wp-content/uploads/2025/08/SNUGGLE-SPOT.jpg
END:VEVENT
END:VCALENDAR