BEGIN:VCALENDAR
VERSION:2.0
PRODID:-//Dallas Pets Alive! - ECPv6.15.14//NONSGML v1.0//EN
CALSCALE:GREGORIAN
METHOD:PUBLISH
X-ORIGINAL-URL:https://dallaspetsalive.org
X-WR-CALDESC:Events for Dallas Pets Alive!
REFRESH-INTERVAL;VALUE=DURATION:PT1H
X-Robots-Tag:noindex
X-PUBLISHED-TTL:PT1H
BEGIN:VTIMEZONE
TZID:America/Chicago
BEGIN:DAYLIGHT
TZOFFSETFROM:-0600
TZOFFSETTO:-0500
TZNAME:CDT
DTSTART:20240310T080000
END:DAYLIGHT
BEGIN:STANDARD
TZOFFSETFROM:-0500
TZOFFSETTO:-0600
TZNAME:CST
DTSTART:20241103T070000
END:STANDARD
BEGIN:DAYLIGHT
TZOFFSETFROM:-0600
TZOFFSETTO:-0500
TZNAME:CDT
DTSTART:20250309T080000
END:DAYLIGHT
BEGIN:STANDARD
TZOFFSETFROM:-0500
TZOFFSETTO:-0600
TZNAME:CST
DTSTART:20251102T070000
END:STANDARD
BEGIN:DAYLIGHT
TZOFFSETFROM:-0600
TZOFFSETTO:-0500
TZNAME:CDT
DTSTART:20260308T080000
END:DAYLIGHT
BEGIN:STANDARD
TZOFFSETFROM:-0500
TZOFFSETTO:-0600
TZNAME:CST
DTSTART:20261101T070000
END:STANDARD
END:VTIMEZONE
BEGIN:VEVENT
DTSTART;TZID=America/Chicago:20250607T120000
DTEND;TZID=America/Chicago:20250607T160000
DTSTAMP:20260422T041155
CREATED:20250526T175450Z
LAST-MODIFIED:20250527T230035Z
UID:10000274-1749297600-1749312000@dallaspetsalive.org
SUMMARY:Queen’s Market Adoption Event
DESCRIPTION:Join us for this month’s Queen’s Market on Saturday\, June 7 from 12–4 PM at Community Beer Co! Support and shop from an incredible lineup of women-led vendors while enjoying a refreshing house brew. This free\, family and pet-friendly event features onsite pet adoptions with Dallas Pets Alive\, donation drives for Genesis Women’s Shelter and LifeSavers Foundation\, and a fun Sticker Rally Challenge with free prizes. With great food\, drinks\, local shopping\, and free convenient parking\, it’s the perfect Saturday outing for a cause. See you there!
URL:https://dallaspetsalive.org/event/queens-market-adoption-event-june-2025/
LOCATION:DPA! Adoption Container\, 3110 Commonwealth Dr.\, Dallas\, TX\, 75247\, United States
CATEGORIES:Adoption,Community,Container,Dogs
ATTACH;FMTTYPE=image/jpeg:https://dallaspetsalive.org/wp-content/uploads/2025/05/Queens-Market.jpg
END:VEVENT
BEGIN:VEVENT
DTSTART;TZID=America/Chicago:20250614T130000
DTEND;TZID=America/Chicago:20250614T170000
DTSTAMP:20260422T041155
CREATED:20250105T021718Z
LAST-MODIFIED:20250105T021718Z
UID:10000243-1749906000-1749920400@dallaspetsalive.org
SUMMARY:Caturday
DESCRIPTION:One Saturday a month join us from 1 pm to 5 pm for Caturday at the Container at Community Beer Company. \nMeet adoptable foster cats and participate in interactive activities such as:\n Creating cat wands for foster & shelter cats\n Playing with adoptable cats and kittens\n Using our innovative\, matchmaking software to find a cat fit for your home \nCome spend a purr-fect day supporting cats in our program and connecting with our cat-loving community! \n2025 Caturday Dates: (dates subject to change) \n\nJanuary 11th\, 1-5 PM\nFebruary 15th\, 1-5PM\nMarch 8th\, 1-5PM\nApril 5th\, 1-5PM\nMay 10th\, 1-5PM\nJune 14th\, 1-5PM\nJuly 19th\, 1-5PM\nAugust 9th\, 1-5PM\nSeptember 20th\, 1-5PM\nOctober 11th\, 1-5PM\nNovember 8th\, 1-5PM\nDecember 13th\, 1-5PM\n\nQuestions? Email container@dallaspetsalive.org
URL:https://dallaspetsalive.org/event/caturday-june-2025/
LOCATION:DPA! Adoption Container\, 3110 Commonwealth Dr.\, Dallas\, TX\, 75247\, United States
CATEGORIES:Adoption,Cats,Container,Social
ATTACH;FMTTYPE=image/jpeg:https://dallaspetsalive.org/wp-content/uploads/2025/01/Caturday-Graphic-2.jpg
END:VEVENT
BEGIN:VEVENT
DTSTART;TZID=America/Chicago:20250620T173000
DTEND;TZID=America/Chicago:20250620T193000
DTSTAMP:20260422T041155
CREATED:20250107T015324Z
LAST-MODIFIED:20250107T015352Z
UID:10000253-1750440600-1750447800@dallaspetsalive.org
SUMMARY:Tales to Tails
DESCRIPTION:Sign up your little one today to become a ‘Tales and Tails’ volunteer\, where they can read their favorite stories to our adorable and adoptable foster dogs. \n\nWe’re creating joyful moments and building a brighter future for both children and our furry companions. Join us for an evening where young readers become the storytellers for our foster dogs! Kids of all ages will have the opportunity to read their favorite stories to our foster pups\, providing valuable socialization for our dogs and helping children develop their reading skills. Let’s create unforgettable memories\, one story at a time.\n\nIt is BYOB  – bring your own book\, or we will have options for your kiddo(s) to pick from.\n\nSign Up Here: https://bit.ly/DPAReadingtoFosters\n\n\nQuestions? Email container@dallaspetsalive.org\n \n2025 Dates:\n\nFriday\, January 17th\, 5:30-7:30PM\nFriday\, February 21st\, 5:30-7:30PM\nFriday\, March 21st\, 5:30-7:30PM\nFriday\, April 18th\, 5:30-7:30PM\nFriday\, May 16th\, 5:30-7:30PM\nFriday\, June 20th\, 5:30-7:30PM\nFriday\, July 18th\, 5:30-7:30PM\nFriday\, August 15th\, 5:30-7:30PM\nFriday\, September 19th\, 5:30-7:30PM\nFriday\, October 17th\, 5:30-7:30PM\nFriday\, November 21st\, 5:30-7:30PM\nFriday\, December 19th\, 5:30-7:30PM
URL:https://dallaspetsalive.org/event/tales-to-tails-june-2025/
LOCATION:DPA! Adoption Container\, 3110 Commonwealth Dr.\, Dallas\, TX\, 75247\, United States
CATEGORIES:Adoption,Container,Dogs,Social
ATTACH;FMTTYPE=image/jpeg:https://dallaspetsalive.org/wp-content/uploads/2025/01/Tales-to-Tails-Graphic.jpg
END:VEVENT
BEGIN:VEVENT
DTSTART;TZID=America/Chicago:20250627T183000
DTEND;TZID=America/Chicago:20250627T203000
DTSTAMP:20260422T041155
CREATED:20250526T163015Z
LAST-MODIFIED:20250526T163040Z
UID:10000273-1751049000-1751056200@dallaspetsalive.org
SUMMARY:Snuggle Spot Grand Opening
DESCRIPTION:Join us for the official opening of the Snuggle Spot\, our brand-new cat room at the Dallas Pets Alive! Adoption Container! We’re celebrating with a cozy evening full of cuddles\, cats\, and cold drinks. \n🎉 What to Expect:\n 🐾 Meet adoptable cats and kittens\n 📍 Tour the new Snuggle Spot\n 🍻 Enjoy craft beer from Community Beer Co.\n 💛 Learn how to foster\, adopt\, or get involved \nWhether you’re a lifelong cat lover or just curious to check out the space\, swing by and help us celebrate this exciting new chapter for our feline friends. See you there!
URL:https://dallaspetsalive.org/event/snuggle-spot-grand-opening/
LOCATION:DPA! Adoption Container\, 3110 Commonwealth Dr.\, Dallas\, TX\, 75247\, United States
CATEGORIES:Adoption,Cats,Container,Social
ATTACH;FMTTYPE=image/jpeg:https://dallaspetsalive.org/wp-content/uploads/2025/05/SNUGGLE-SPOT.jpg
END:VEVENT
BEGIN:VEVENT
DTSTART;TZID=America/Chicago:20250628T120000
DTEND;TZID=America/Chicago:20250628T170000
DTSTAMP:20260422T041155
CREATED:20250526T162734Z
LAST-MODIFIED:20250526T162734Z
UID:10000272-1751112000-1751130000@dallaspetsalive.org
SUMMARY:June Mutt Market
DESCRIPTION:☀️ Paw-lidays in the Sun Vendor Market & Adoption Event\n 📍 Community Beer Co.\n 📅 Saturday\, June 28th | 12–5 PM \nGet ready to kick off summer with wagging tails\, cold drinks\, and paws-itively awesome local shopping! Join us at Paw-lidays in the Sun\, where pet lovers\, adoptable dogs\, and local vendors come together for a fun-filled Saturday. \n🎉 What to Expect:\n 🐾 Meet adoptable dogs from Dallas Pets Alive!\n 🛍️ Shop pet-themed goods from local vendors\n 🍻 Sip craft beer from Community Beer Co.\n 📸 Grab a sunny selfie with your pup\n 💛 Support small businesses and animal rescue \nWhether you’re looking to adopt\, treat your pet\, or just soak up some good vibes\, this is the summer paw-ty you don’t want to miss! See you there!
URL:https://dallaspetsalive.org/event/june-mutt-market/
LOCATION:DPA! Adoption Container\, 3110 Commonwealth Dr.\, Dallas\, TX\, 75247\, United States
CATEGORIES:Adoption,Container,Dogs,Social
ATTACH;FMTTYPE=image/jpeg:https://dallaspetsalive.org/wp-content/uploads/2025/05/June-Mutt-Market.jpg
END:VEVENT
END:VCALENDAR