BEGIN:VCALENDAR
VERSION:2.0
PRODID:-//Dallas Pets Alive! - ECPv6.15.14//NONSGML v1.0//EN
CALSCALE:GREGORIAN
METHOD:PUBLISH
X-WR-CALNAME:Dallas Pets Alive!
X-ORIGINAL-URL:https://dallaspetsalive.org
X-WR-CALDESC:Events for Dallas Pets Alive!
REFRESH-INTERVAL;VALUE=DURATION:PT1H
X-Robots-Tag:noindex
X-PUBLISHED-TTL:PT1H
BEGIN:VTIMEZONE
TZID:America/Chicago
BEGIN:DAYLIGHT
TZOFFSETFROM:-0600
TZOFFSETTO:-0500
TZNAME:CDT
DTSTART:20230312T080000
END:DAYLIGHT
BEGIN:STANDARD
TZOFFSETFROM:-0500
TZOFFSETTO:-0600
TZNAME:CST
DTSTART:20231105T070000
END:STANDARD
BEGIN:DAYLIGHT
TZOFFSETFROM:-0600
TZOFFSETTO:-0500
TZNAME:CDT
DTSTART:20240310T080000
END:DAYLIGHT
BEGIN:STANDARD
TZOFFSETFROM:-0500
TZOFFSETTO:-0600
TZNAME:CST
DTSTART:20241103T070000
END:STANDARD
BEGIN:DAYLIGHT
TZOFFSETFROM:-0600
TZOFFSETTO:-0500
TZNAME:CDT
DTSTART:20250309T080000
END:DAYLIGHT
BEGIN:STANDARD
TZOFFSETFROM:-0500
TZOFFSETTO:-0600
TZNAME:CST
DTSTART:20251102T070000
END:STANDARD
END:VTIMEZONE
BEGIN:VEVENT
DTSTART;TZID=America/Chicago:20241207T130000
DTEND;TZID=America/Chicago:20241207T170000
DTSTAMP:20260424T114807
CREATED:20241121T032409Z
LAST-MODIFIED:20241124T175858Z
UID:10000228-1733576400-1733590800@dallaspetsalive.org
SUMMARY:Country Tails on Tap Adoption Event
DESCRIPTION: Join us at Community Beer’s FREE Country Music Festival on December 7th for a paw-some addition to the festivities—our Country Tails on Tap Adoption Event! While you enjoy an incredible lineup of country music artists and explore local vendor booths\, take a moment to meet some adorable\, adoptable dogs looking for their forever homes. \nStop by to find your new best friend\, soak up the good vibes\, and make it a day to remember with great music\, local brews\, and wagging tails. Adoption event kicks off at 12 PM alongside the festival—don’t miss it!
URL:https://dallaspetsalive.org/event/country-tails-on-tap-adoption-event/
LOCATION:DPA! Adoption Container\, 3110 Commonwealth Dr.\, Dallas\, TX\, 75247\, United States
CATEGORIES:Adoption,Container,Dogs,Social
ATTACH;FMTTYPE=image/jpeg:https://dallaspetsalive.org/wp-content/uploads/2024/11/Adoption-Container-Event-Graphics-3.jpg
END:VEVENT
BEGIN:VEVENT
DTSTART;TZID=America/Chicago:20241208T120000
DTEND;TZID=America/Chicago:20241208T160000
DTSTAMP:20260424T114807
CREATED:20241127T033103Z
LAST-MODIFIED:20241127T033103Z
UID:10000232-1733659200-1733673600@dallaspetsalive.org
SUMMARY:Grinch Pictures
DESCRIPTION:Get festive with Pictures with the Grinch at Community Beer Co. on December 8th from 12-4 PM! For just $5\, snap a memorable photo with our Grinch\, who’s ready to pose with everyone—humans of all ages (adults and kiddos) and all your furry friends\, whether they bark\, purr\, or anything in between. \nAll proceeds benefit Dallas Pets Alive!\, helping rescue animals in need. Come out for holiday cheer\, great brews\, and a Grinchy good time—all for a great cause! \nMinimum donation of $5 to DPA!\, cash\, card\, or Venmo accepted \nPictures with the Grinch going towards a GREAT cause!!!! Dogs\, kids\, families all welcome.
URL:https://dallaspetsalive.org/event/grinch-pictures/
LOCATION:DPA! Adoption Container\, 3110 Commonwealth Dr.\, Dallas\, TX\, 75247\, United States
CATEGORIES:Celebration,Container,Social
ATTACH;FMTTYPE=image/jpeg:https://dallaspetsalive.org/wp-content/uploads/2024/11/23.jpg
END:VEVENT
BEGIN:VEVENT
DTSTART;TZID=America/Chicago:20241214T130000
DTEND;TZID=America/Chicago:20241214T170000
DTSTAMP:20260424T114807
CREATED:20241121T033504Z
LAST-MODIFIED:20241124T180019Z
UID:10000229-1734181200-1734195600@dallaspetsalive.org
SUMMARY:Caturday
DESCRIPTION:It’s the purrrfect way to start the weekend. We’re rolling out the red carpet for our feline friends\, and you’re invited to enjoy a day filled with all things cat-tastic. Come and mingle with fellow cat enthusiasts\, share your favorite cat stories\, and meet some of the most adorable adoptable cats seeking their forever homes.
URL:https://dallaspetsalive.org/event/caturday-december-24/
LOCATION:DPA! Adoption Container\, 3110 Commonwealth Dr.\, Dallas\, TX\, 75247\, United States
CATEGORIES:Adoption,Cats,Container,Social
ATTACH;FMTTYPE=image/jpeg:https://dallaspetsalive.org/wp-content/uploads/2024/11/Adoption-Container-Event-Graphics-5.jpg
END:VEVENT
BEGIN:VEVENT
DTSTART;TZID=America/Chicago:20241214T140000
DTEND;TZID=America/Chicago:20241214T180000
DTSTAMP:20260424T114807
CREATED:20241124T175633Z
LAST-MODIFIED:20241124T175633Z
UID:10000231-1734184800-1734199200@dallaspetsalive.org
SUMMARY:Holiday Market & Santy Paws
DESCRIPTION:Join us for a day of Holiday Shopping and supporting small businesses. DPA! will have our very own Santa ready to take pictures with your family\, pups\, or kiddos! For a small donation of $5 you can have a picture with Santy-Paws. This money goes to animals in need! \nOur Santy-Paws will be there during the below times:  \n\nSaturday 12/14 2-6PM\nSunday 12/15 12-5PM\n\nMinimum donation of $5 to DPA\, cash\, card or Venmo accepted  \nPictures with Santa going towards a GREAT cause!!!! Dogs\, kids\, families all welcome.
URL:https://dallaspetsalive.org/event/holiday-market-santy-paws-december-14/
LOCATION:DPA! Adoption Container\, 3110 Commonwealth Dr.\, Dallas\, TX\, 75247\, United States
CATEGORIES:Celebration,Container,Social
ATTACH;FMTTYPE=image/jpeg:https://dallaspetsalive.org/wp-content/uploads/2024/11/Adoption-Container-Event-Graphics.jpg
END:VEVENT
BEGIN:VEVENT
DTSTART;TZID=America/Chicago:20241215T120000
DTEND;TZID=America/Chicago:20241215T170000
DTSTAMP:20260424T114807
CREATED:20241121T034111Z
LAST-MODIFIED:20241124T175404Z
UID:10000230-1734264000-1734282000@dallaspetsalive.org
SUMMARY:Holiday Market & Santy Paws
DESCRIPTION:Join us for a day of Holiday Shopping and supporting small businesses. DPA! will have our very own Santa ready to take pictures with your family\, pups\, or kiddos! For a small donation of $5 you can have a picture with Santy-Paws. This money goes to animals in need! \nOur Santy-Paws will be there during the below times:  \n\nSaturday 12/14 2-6PM\nSunday 12/15 12-5PM\n\nMinimum donation of $5 to DPA\, cash\, card or Venmo accepted  \nPictures with Santa going towards a GREAT cause!!!! Dogs\, kids\, families all welcome.
URL:https://dallaspetsalive.org/event/holiday-market-santy-paws-december-15/
LOCATION:DPA! Adoption Container\, 3110 Commonwealth Dr.\, Dallas\, TX\, 75247\, United States
CATEGORIES:Celebration,Container,Social
ATTACH;FMTTYPE=image/jpeg:https://dallaspetsalive.org/wp-content/uploads/2024/11/Adoption-Container-Event-Graphics.jpg
END:VEVENT
BEGIN:VEVENT
DTSTART;TZID=America/Chicago:20241220T173000
DTEND;TZID=America/Chicago:20241220T193000
DTSTAMP:20260424T114807
CREATED:20240530T031515Z
LAST-MODIFIED:20241124T180128Z
UID:10000185-1734715800-1734723000@dallaspetsalive.org
SUMMARY:Kiddos Reading to Foster Pups
DESCRIPTION:Join us for an evening where young readers become the storytellers for our foster dogs! Kids of all ages will have the opportunity to read their favorite stories to our foster pups\, providing valuable socialization for our dogs and helping children develop their reading skills. Let’s create unforgettable memories\, one story at a time! \nTo sign up\, fill out this form.
URL:https://dallaspetsalive.org/event/kiddos-reading-to-foster-pups-december-2024/
LOCATION:DPA! Adoption Container\, 3110 Commonwealth Dr.\, Dallas\, TX\, 75247\, United States
CATEGORIES:Adoption,Community,Container,Dogs,Social
ATTACH;FMTTYPE=image/jpeg:https://dallaspetsalive.org/wp-content/uploads/2024/05/Adoption-Container-Event-Graphics-4.jpg
END:VEVENT
END:VCALENDAR