BEGIN:VCALENDAR
VERSION:2.0
PRODID:-//Dallas Pets Alive! - ECPv6.15.14//NONSGML v1.0//EN
CALSCALE:GREGORIAN
METHOD:PUBLISH
X-ORIGINAL-URL:https://dallaspetsalive.org
X-WR-CALDESC:Events for Dallas Pets Alive!
REFRESH-INTERVAL;VALUE=DURATION:PT1H
X-Robots-Tag:noindex
X-PUBLISHED-TTL:PT1H
BEGIN:VTIMEZONE
TZID:America/Chicago
BEGIN:DAYLIGHT
TZOFFSETFROM:-0600
TZOFFSETTO:-0500
TZNAME:CDT
DTSTART:20230312T080000
END:DAYLIGHT
BEGIN:STANDARD
TZOFFSETFROM:-0500
TZOFFSETTO:-0600
TZNAME:CST
DTSTART:20231105T070000
END:STANDARD
BEGIN:DAYLIGHT
TZOFFSETFROM:-0600
TZOFFSETTO:-0500
TZNAME:CDT
DTSTART:20240310T080000
END:DAYLIGHT
BEGIN:STANDARD
TZOFFSETFROM:-0500
TZOFFSETTO:-0600
TZNAME:CST
DTSTART:20241103T070000
END:STANDARD
BEGIN:DAYLIGHT
TZOFFSETFROM:-0600
TZOFFSETTO:-0500
TZNAME:CDT
DTSTART:20250309T080000
END:DAYLIGHT
BEGIN:STANDARD
TZOFFSETFROM:-0500
TZOFFSETTO:-0600
TZNAME:CST
DTSTART:20251102T070000
END:STANDARD
END:VTIMEZONE
BEGIN:VEVENT
DTSTART;TZID=America/Chicago:20240706T130000
DTEND;TZID=America/Chicago:20240706T170000
DTSTAMP:20260424T183808
CREATED:20240619T182137Z
LAST-MODIFIED:20240619T182137Z
UID:10000187-1720270800-1720285200@dallaspetsalive.org
SUMMARY:Caturday
DESCRIPTION:It’s the purrrfect way to start the weekend. We’re rolling out the red carpet for our feline friends\, and you’re invited to enjoy a day filled with all things cat-tastic. Come and mingle with fellow cat enthusiasts\, share your favorite cat stories\, and meet some of the most adorable adoptable cats seeking their forever homes.
URL:https://dallaspetsalive.org/event/caturday-july-2024/
LOCATION:DPA! Adoption Container\, 3110 Commonwealth Dr.\, Dallas\, TX\, 75247\, United States
CATEGORIES:Adoption,Cats,Container,Fosters,Social
ATTACH;FMTTYPE=image/jpeg:https://dallaspetsalive.org/wp-content/uploads/2024/03/DPA-Web-Caturday-1-1920w-1080t.jpg
END:VEVENT
BEGIN:VEVENT
DTSTART;TZID=America/Chicago:20240713T130000
DTEND;TZID=America/Chicago:20240713T180000
DTSTAMP:20260424T183808
CREATED:20240710T004449Z
LAST-MODIFIED:20240710T004449Z
UID:10000189-1720875600-1720893600@dallaspetsalive.org
SUMMARY:Dog Daze of Summer
DESCRIPTION:In partnership with Community Beer Co\, Dallas Pets Alive invites you to join us for a delightful day at the Dog Daze of Summer adoption and dog-friendly event! This family-friendly gathering will feature a variety of activities and attractions sure to make tails wag. Meet adorable adoptable dogs eagerly seeking their forever homes\, and chat with our knowledgeable adoption counselors to find your perfect match.\n\nBrowse through a diverse array of vendors offering everything from gourmet dog treats to stylish pet accessories. Cool off your canine companion in our doggy pools or relax in the beer garden with a refreshing beverage. With plenty of fun-filled activities for both dogs and their owners\, including games and entertainment\, Dog Daze of Summer promises a memorable outing for all pet lovers. Mark your calendars and join us for a day of furry fun and community camaraderie!\n\n\nQuestions? Email container@dallaspetsalive.org\n\nContainer hours 12-7pm
URL:https://dallaspetsalive.org/event/dog-daze-of-summer/
LOCATION:DPA! Adoption Container\, 3110 Commonwealth Dr.\, Dallas\, TX\, 75247\, United States
CATEGORIES:Adoption,Community,Container,Dogs,Social
ATTACH;FMTTYPE=image/jpeg:https://dallaspetsalive.org/wp-content/uploads/2024/07/Dog-Daze-of-Summers.jpg
END:VEVENT
BEGIN:VEVENT
DTSTART;TZID=America/Chicago:20240719T173000
DTEND;TZID=America/Chicago:20240719T193000
DTSTAMP:20260424T183808
CREATED:20240530T030530Z
LAST-MODIFIED:20240530T030530Z
UID:10000180-1721410200-1721417400@dallaspetsalive.org
SUMMARY:Kiddos Reading to Foster Pups
DESCRIPTION:Join us for an evening where young readers become the storytellers for our foster dogs! Kids of all ages will have the opportunity to read their favorite stories to our foster pups\, providing valuable socialization for our dogs and helping children develop their reading skills. Let’s create unforgettable memories\, one story at a time! \nTo sign up\, fill out this form.
URL:https://dallaspetsalive.org/event/kiddos-reading-to-foster-pups-july-2024/
LOCATION:DPA! Adoption Container\, 3110 Commonwealth Dr.\, Dallas\, TX\, 75247\, United States
CATEGORIES:Adoption,Community,Container,Dogs,Social
ATTACH;FMTTYPE=image/jpeg:https://dallaspetsalive.org/wp-content/uploads/2024/05/Kiddos-Reading-to-Foster-Pups-3.jpg
END:VEVENT
BEGIN:VEVENT
DTSTART;TZID=America/Chicago:20240720T130000
DTEND;TZID=America/Chicago:20240720T170000
DTSTAMP:20260424T183808
CREATED:20240619T182500Z
LAST-MODIFIED:20240619T182500Z
UID:10000188-1721480400-1721494800@dallaspetsalive.org
SUMMARY:Hawaiian Caturday
DESCRIPTION:Aloha! Embrace the island spirit at our Hawaiian-themed cat adoption event\, where feline charm meets tropical vibes!  \nJoin us for a purr-fect day of aloha shirts\, leis\, and\, most importantly\, adorable cats in search of loving homes. Our venue will be transformed into a paradise adorned with Hawaiian decor\, setting the stage for you to meet and greet our friendly\, adoptable cats. Enjoy browsing through our selection of vendors offering unique cat-themed goodies and accessories. Indulge in Hawaiian refreshments and treats as you mingle with fellow cat enthusiasts and learn more about our adoption process. Whether you’re a seasoned cat owner or considering adding a new member to your ohana\, this event promises a meow-nificent experience for all. Mahalo for supporting our furry friends – we can’t wait to see you there in your best Hawaiian attire!
URL:https://dallaspetsalive.org/event/hawaiian-caturday/
LOCATION:DPA! Adoption Container\, 3110 Commonwealth Dr.\, Dallas\, TX\, 75247\, United States
CATEGORIES:Adoption,Cats,Container,Social
END:VEVENT
END:VCALENDAR