BEGIN:VCALENDAR
VERSION:2.0
PRODID:-//Dallas Pets Alive! - ECPv6.15.14//NONSGML v1.0//EN
CALSCALE:GREGORIAN
METHOD:PUBLISH
X-ORIGINAL-URL:https://dallaspetsalive.org
X-WR-CALDESC:Events for Dallas Pets Alive!
REFRESH-INTERVAL;VALUE=DURATION:PT1H
X-Robots-Tag:noindex
X-PUBLISHED-TTL:PT1H
BEGIN:VTIMEZONE
TZID:America/Chicago
BEGIN:DAYLIGHT
TZOFFSETFROM:-0600
TZOFFSETTO:-0500
TZNAME:CDT
DTSTART:20230312T080000
END:DAYLIGHT
BEGIN:STANDARD
TZOFFSETFROM:-0500
TZOFFSETTO:-0600
TZNAME:CST
DTSTART:20231105T070000
END:STANDARD
BEGIN:DAYLIGHT
TZOFFSETFROM:-0600
TZOFFSETTO:-0500
TZNAME:CDT
DTSTART:20240310T080000
END:DAYLIGHT
BEGIN:STANDARD
TZOFFSETFROM:-0500
TZOFFSETTO:-0600
TZNAME:CST
DTSTART:20241103T070000
END:STANDARD
BEGIN:DAYLIGHT
TZOFFSETFROM:-0600
TZOFFSETTO:-0500
TZNAME:CDT
DTSTART:20250309T080000
END:DAYLIGHT
BEGIN:STANDARD
TZOFFSETFROM:-0500
TZOFFSETTO:-0600
TZNAME:CST
DTSTART:20251102T070000
END:STANDARD
END:VTIMEZONE
BEGIN:VEVENT
DTSTART;TZID=America/Chicago:20240608T130000
DTEND;TZID=America/Chicago:20240608T170000
DTSTAMP:20260424T200633
CREATED:20240521T034801Z
LAST-MODIFIED:20240521T034801Z
UID:10000176-1717851600-1717866000@dallaspetsalive.org
SUMMARY:Caturday
DESCRIPTION:It’s the purrrfect way to start the weekend. We’re rolling out the red carpet for our feline friends\, and you’re invited to enjoy a day filled with all things cat-tastic. Come and mingle with fellow cat enthusiasts\, share your favorite cat stories\, and meet some of the most adorable adoptable cats seeking their forever homes.
URL:https://dallaspetsalive.org/event/caturday-6/
LOCATION:DPA! Adoption Container\, 3110 Commonwealth Dr.\, Dallas\, TX\, 75247\, United States
CATEGORIES:Adoption,Cats,Container,Social
ATTACH;FMTTYPE=image/jpeg:https://dallaspetsalive.org/wp-content/uploads/2024/03/DPA-Web-Caturday-1-1920w-1080t.jpg
END:VEVENT
BEGIN:VEVENT
DTSTART;TZID=America/Chicago:20240621T173000
DTEND;TZID=America/Chicago:20240621T193000
DTSTAMP:20260424T200633
CREATED:20240528T182328Z
LAST-MODIFIED:20240530T031818Z
UID:10000177-1718991000-1718998200@dallaspetsalive.org
SUMMARY:Kiddos Reading to Foster Pups
DESCRIPTION:Join us for an evening where young readers become the storytellers for our foster dogs! Kids of all ages will have the opportunity to read their favorite stories to our foster pups\, providing valuable socialization for our dogs and helping children develop their reading skills. Let’s create unforgettable memories\, one story at a time! \nTo sign up\, fill out this form.
URL:https://dallaspetsalive.org/event/kiddos-reading-to-foster-pups-june-2024/
LOCATION:DPA! Adoption Container\, 3110 Commonwealth Dr.\, Dallas\, TX\, 75247\, United States
CATEGORIES:Adoption,Community,Container,Dogs,Social
ATTACH;FMTTYPE=image/jpeg:https://dallaspetsalive.org/wp-content/uploads/2024/05/Kiddos-Reading-to-Foster-Pups-2.jpg
END:VEVENT
BEGIN:VEVENT
DTSTART;TZID=America/Chicago:20240629T130000
DTEND;TZID=America/Chicago:20240629T170000
DTSTAMP:20260424T200633
CREATED:20240528T182539Z
LAST-MODIFIED:20240528T182539Z
UID:10000178-1719666000-1719680400@dallaspetsalive.org
SUMMARY:IndePAWdence Celebration
DESCRIPTION:Celebrate early with our IndePAWdence Celebration\, where you and your furry friends can enjoy a festive day filled with red\, white\, and blue-themed photo opportunities\, delicious dog treats\, and fun activities. Meet adorable adoptable dogs ready to find their forever homes and explore a variety of dog-friendly vendors. Don’t miss out on this patriotic paws-ome event!
URL:https://dallaspetsalive.org/event/indepawdence-celebration/
LOCATION:DPA! Adoption Container\, 3110 Commonwealth Dr.\, Dallas\, TX\, 75247\, United States
CATEGORIES:Adoption,Celebration,Community,Container,Dogs,Social
END:VEVENT
END:VCALENDAR