BEGIN:VCALENDAR
VERSION:2.0
PRODID:-//Dallas Pets Alive! - ECPv6.15.14//NONSGML v1.0//EN
CALSCALE:GREGORIAN
METHOD:PUBLISH
X-WR-CALNAME:Dallas Pets Alive!
X-ORIGINAL-URL:https://dallaspetsalive.org
X-WR-CALDESC:Events for Dallas Pets Alive!
REFRESH-INTERVAL;VALUE=DURATION:PT1H
X-Robots-Tag:noindex
X-PUBLISHED-TTL:PT1H
BEGIN:VTIMEZONE
TZID:America/Chicago
BEGIN:DAYLIGHT
TZOFFSETFROM:-0600
TZOFFSETTO:-0500
TZNAME:CDT
DTSTART:20250309T080000
END:DAYLIGHT
BEGIN:STANDARD
TZOFFSETFROM:-0500
TZOFFSETTO:-0600
TZNAME:CST
DTSTART:20251102T070000
END:STANDARD
BEGIN:DAYLIGHT
TZOFFSETFROM:-0600
TZOFFSETTO:-0500
TZNAME:CDT
DTSTART:20260308T080000
END:DAYLIGHT
BEGIN:STANDARD
TZOFFSETFROM:-0500
TZOFFSETTO:-0600
TZNAME:CST
DTSTART:20261101T070000
END:STANDARD
BEGIN:DAYLIGHT
TZOFFSETFROM:-0600
TZOFFSETTO:-0500
TZNAME:CDT
DTSTART:20270314T080000
END:DAYLIGHT
BEGIN:STANDARD
TZOFFSETFROM:-0500
TZOFFSETTO:-0600
TZNAME:CST
DTSTART:20271107T070000
END:STANDARD
END:VTIMEZONE
BEGIN:VEVENT
DTSTART;TZID=America/Chicago:20260214T120000
DTEND;TZID=America/Chicago:20260214T160000
DTSTAMP:20260424T033253
CREATED:20260127T014738Z
LAST-MODIFIED:20260127T014738Z
UID:10000425-1771070400-1771084800@dallaspetsalive.org
SUMMARY:Be My Furry Valentine Adoption Event
DESCRIPTION:Looking for love this Valentine’s Day? Come meet your perfect match at Be My Furry Valentine\, a special adoption event hosted in collaboration with Dallas Animal Services and Adoption Center\, Dallas Pets Alive\, and Community Beer Company \n  \nJoin us on Saturday\, February 14 from 12 – 4 PM to meet adoptable dogs from DAS and DPA who are ready to steal your heart. With a mix of foster pups onsite throughout the event\, you’ll have the chance to learn about their personalities\, backgrounds\, and what makes each one special. \n🐾 What to expect: \n\nAdoptable dogs from both DAS and DPA\nFoster parents and staff onsite to answer questions\nValentine-themed fun and photo ops\nA relaxed\, come-and-go event with dogs rotating throughout the afternoon\n\nWhether you’re ready to adopt or just want to spread the love\, we’d be thrilled to see you there. You never know\, your furry Valentine might be waiting. \nQuestions? Email container@dallaspetsalive.org
URL:https://dallaspetsalive.org/event/be-my-furry-valentine-adoption-event/
LOCATION:DPA! Adoption Container\, 3110 Commonwealth Dr.\, Dallas\, TX\, 75247\, United States
CATEGORIES:Adoption,Community,Container,Dogs,Social
ATTACH;FMTTYPE=image/jpeg:https://dallaspetsalive.org/wp-content/uploads/2026/01/Be-My-Furry-Valentine.jpg
END:VEVENT
BEGIN:VEVENT
DTSTART;TZID=America/Chicago:20260322T140000
DTEND;TZID=America/Chicago:20260322T170000
DTSTAMP:20260424T033253
CREATED:20260307T190632Z
LAST-MODIFIED:20260307T190632Z
UID:10000887-1774188000-1774198800@dallaspetsalive.org
SUMMARY:Paint your Pet
DESCRIPTION:Paint your pet while helping raise money for our animals! \nSign up here! \nFundraising for HSDC \nWhen you join the Lucky Paws Club with a recurring gift\, you provide steady\, reliable support that helps us plan ahead and care for cats every single day\, not just in emergencies\, but all year long. \nTo celebrate\, for every donation made during the month of March\, we’ll add one shamrock to our cat window for every $5 donated. Each shamrock represents good luck and well wishes sent to the cats on their journey toward finding loving homes. \nOur goal? To fill the windows with shamrocks. Did you know that shamrocks stand for faith\, hope\, love and luck? \nWhether you choose to become a monthly donor or make a one-time gift\, every contribution brings comfort\, care\, and brighter futures to the cats who depend on us. \nWill you help us turn our windows green this March? \nSend some luck our way here.https://dognkittycity.charityproud.org/Donate/Index/42075
URL:https://dallaspetsalive.org/event/paint-your-pet/
LOCATION:Painting with a Twist – Plano\, 1713 Preston Rd\, Plano\, TX\, 75093\, United States
CATEGORIES:Community,Fundraiser,Humane Society of Dallas County,Social
ATTACH;FMTTYPE=image/jpeg:https://dallaspetsalive.org/wp-content/uploads/2026/03/Painting-with-a-twist.jpg
END:VEVENT
BEGIN:VEVENT
DTSTART;TZID=America/Chicago:20260327T183000
DTEND;TZID=America/Chicago:20260327T193000
DTSTAMP:20260424T033253
CREATED:20260228T202656Z
LAST-MODIFIED:20260303T230405Z
UID:10000870-1774636200-1774639800@dallaspetsalive.org
SUMMARY:DPA Town Hall
DESCRIPTION:Join us in person or on Facebook Live for our 2026 DPA Town Hall! \nHear from leadership about the future of DPA\, including 2025 wins and updates across Dogs Matter and the Humane Society of Dallas County! \nSubmit your anonymous questions to be answered on the day of the event here: https://form.jotform.com/Patterson_Katie/dpatownhall
URL:https://dallaspetsalive.org/event/dpatownhall/
LOCATION:Community Beer Company\, 3110 Commonwealth Drive\, Dallas\, TX\, 75247\, United States
CATEGORIES:Community
ATTACH;FMTTYPE=image/jpeg:https://dallaspetsalive.org/wp-content/uploads/2026/02/2026-Town-hall.jpg
END:VEVENT
BEGIN:VEVENT
DTSTART;TZID=America/Chicago:20260328T110000
DTEND;TZID=America/Chicago:20260328T140000
DTSTAMP:20260424T033253
CREATED:20260307T191150Z
LAST-MODIFIED:20260307T191150Z
UID:10000888-1774695600-1774706400@dallaspetsalive.org
SUMMARY:Son of a Butcher Adoption Event
DESCRIPTION:We’re mixing up MUTTS & MARGS \n\nJoin us and our friends at Son of a Butcher on the Lower Greenville patio for the SOB X DPA X HSDC Adoption Event! \n\nSaturday\, March 28\, from 11:30am to 2:00pm\n\nYappy Hour – Happy Hour all event long Treats for Pups & Humans\nCome support Dallas Pets Alive! and maybe bring home a new best friend \n\nSon of a Butcher2026 Greenville Ave\, Dallas\, TX
URL:https://dallaspetsalive.org/event/son-of-a-butcher-adoption-event/
LOCATION:Son of a Butcher\, 2026 Greenville Ave\, Dallas\, TX\, 75206\, United States
CATEGORIES:Adoption,Community,Humane Society of Dallas County,Social
ATTACH;FMTTYPE=image/jpeg:https://dallaspetsalive.org/wp-content/uploads/2026/03/SoB_LG-Adoption-Event_FB-Event_1920x1080_0226_R.jpg
END:VEVENT
BEGIN:VEVENT
DTSTART;TZID=America/Chicago:20260328T120000
DTEND;TZID=America/Chicago:20260328T170000
DTSTAMP:20260424T033253
CREATED:20260303T021146Z
LAST-MODIFIED:20260303T021146Z
UID:10000872-1774699200-1774717200@dallaspetsalive.org
SUMMARY:DPA Pet Vendor Market: Mutt Madness
DESCRIPTION:It’s game time\, Dallas. 🏀🐶 Join us for a March Madness-inspired\, dog-friendly afternoon of shopping\, sipping\, and supporting rescue pets at the Dallas Pets Alive Adoption Container. \n📅 Saturday\, March 28 \n⏰ 12 – 5 PM \n📍 Community Beer Co. | 3110 Commonwealth Dr\, Dallas\, TX \nThis isn’t your average vendor market. We’re bringing the Mutt Madness energy with: \n🏆 “Top Dog” Bracket Voting \n🐶 Adoptable All-Stars \n🛍️ Local pet vendors and makers \n🍺 Cold beer and brewery vibes \nBring your pup and shop a curated lineup of local small businesses offering treats\, toys\, accessories\, art\, and more. Meet fellow dog lovers\, hang with fosters\, and cheer on your favorite “underdog” in our rescue-themed bracket. \nWhether you’re here to spoil your dog\, grab a drink with friends\, or support lifesaving work\, this is your Saturday plan. \n💛 Dog-friendly brewery \n💛 Shop small and local \n💛 Rescue pets + good vibes
URL:https://dallaspetsalive.org/event/dpa-pet-vendor-market-mutt-madness/
LOCATION:DPA! Adoption Container\, 3110 Commonwealth Dr.\, Dallas\, TX\, 75247\, United States
CATEGORIES:Adoption,Community,Container,Dogs
ATTACH;FMTTYPE=image/jpeg:https://dallaspetsalive.org/wp-content/uploads/2026/03/Mutt-Madness-March-DPA-Vendor-Market.jpg
END:VEVENT
BEGIN:VEVENT
DTSTART;TZID=America/Chicago:20260418T100000
DTEND;TZID=America/Chicago:20260418T150000
DTSTAMP:20260424T033253
CREATED:20260329T031747Z
LAST-MODIFIED:20260329T031747Z
UID:10000924-1776506400-1776524400@dallaspetsalive.org
SUMMARY:Adoption Event with Gateway GMC
DESCRIPTION:Gateway GMC is teaming up with the Humane Society of Dallas County and Dallas Pets Alive for a dog adoption event April 18th from 10:00 to 3:00 \n\nGateway will pay all adoption fees for any successful adoption from this event and donate $500 for every vehicle sold to the HSDC \nFree hot dogs and refreshments starting at noon
URL:https://dallaspetsalive.org/event/adoption-event-with-gateway-gmc/
LOCATION:Gateway GMC\, 11438 Lyndon B Johnson Fwy\, Dallas\, TX\, 75238\, United States
CATEGORIES:Adoption,Community,Dogs,Humane Society of Dallas County
ATTACH;FMTTYPE=image/jpeg:https://dallaspetsalive.org/wp-content/uploads/2026/03/Untitled-design.jpg
END:VEVENT
BEGIN:VEVENT
DTSTART;TZID=America/Chicago:20260424T190000
DTEND;TZID=America/Chicago:20260424T220000
DTSTAMP:20260424T033253
CREATED:20260329T032226Z
LAST-MODIFIED:20260329T155928Z
UID:10000925-1777057200-1777068000@dallaspetsalive.org
SUMMARY:Frisco RoughRiders Community Night
DESCRIPTION:We’re teaming up with the Frisco RoughRiders for a special Dallas Pets Alive Community Night\, and you’re invited! Bring your friends\, family\, and fellow animal lovers out for a fun\, feel-good evening at the ballpark. \nEvery ticket makes a difference! $5 from each ticket goes directly to supporting animals in need through Dallas Pets Alive. It’s a simple way to give back while enjoying a great night out! \nGrab your tickets\, cheer on the Riders\, and help us continue our lifesaving work in the community \nhttps://www.gofevo.com/event/dallaspet6
URL:https://dallaspetsalive.org/event/frisco-roughriders-community-night/
LOCATION:Riders Field\, 7300 Rough Riders Trl\, Frisco\, TX\, 75034\, United States
CATEGORIES:Community,Fundraiser,Social
ATTACH;FMTTYPE=image/jpeg:https://dallaspetsalive.org/wp-content/uploads/2026/03/Riders-Field-1.jpg
END:VEVENT
BEGIN:VEVENT
DTSTART;TZID=America/Chicago:20260425T120000
DTEND;TZID=America/Chicago:20260425T170000
DTSTAMP:20260424T033253
CREATED:20260319T235819Z
LAST-MODIFIED:20260319T235819Z
UID:10000892-1777118400-1777136400@dallaspetsalive.org
SUMMARY:DPA Pet Vendor Market: Spring Edition
DESCRIPTION:Spring has sprung\, Dallas 🌸🐶 Join us for a dog-friendly afternoon of shopping\, sipping\, and supporting rescue pets at the Dallas Pets Alive Adoption Container. \nThis isn’t your average vendor market. We’re bringing all the springtime fun with: \n🌸 Doggy Flower Paw Print Craft ($5 donation) \n🍦 Pup Cups ($1 donation) \n🐶 Adoptable pups and snuggly cats \n🛍️ Local pet vendors and makers \n🍺 Cold beer and brewery vibes \nBring your pup and shop a curated lineup of local small businesses offering treats\, toys\, accessories\, art\, and more. Get creative with a spring-themed paw print keepsake\, grab a pup cup for your dog\, and spend the afternoon surrounded by fellow animal lovers. \nWhether you’re here to spoil your dog\, support rescue\, or just enjoy a beautiful day out\, this is your Saturday plan. \n💛 Dog-friendly brewery \n💛 Shop small and local \n💛 Rescue pets + good vibes \nQuestions? container@dallaspetsalive.org
URL:https://dallaspetsalive.org/event/dpa-pet-vendor-market-spring-edition/
LOCATION:DPA! Adoption Container\, 3110 Commonwealth Dr.\, Dallas\, TX\, 75247\, United States
CATEGORIES:Adoption,Community,Container,Dogs
ATTACH;FMTTYPE=image/jpeg:https://dallaspetsalive.org/wp-content/uploads/2026/03/April-Spring-Activities-DPA-Vendor-Market.jpg
END:VEVENT
BEGIN:VEVENT
DTSTART;TZID=America/Chicago:20260502T120000
DTEND;TZID=America/Chicago:20260502T133000
DTSTAMP:20260424T033253
CREATED:20260408T013100Z
LAST-MODIFIED:20260408T013130Z
UID:10000956-1777723200-1777728600@dallaspetsalive.org
SUMMARY:Pawlicious Cookies & Co Cupcake Class
DESCRIPTION:Decorate. Create. Treat your pup!\nJoin us for a paws-itvely fun dog cupcake decorating class and some bingo. Perfect for dog lovers of all ages. \n\n\nWhat your $20 ticket gets you: \n\nDecorate sweet treats for your pup + play Bingo to win fun prizes!\nA small goody bag with a dog safe recipe to make at home and some dog biscuits\nYour decorated cupcake(s) to take home\nExperience with adoptable puppies or other pets onsite\nHalf of the proceeds will be donated to help our animals!\n\nGet your tickets here.
URL:https://dallaspetsalive.org/event/pawlicious-cookies-co-cupcake-class/
LOCATION:DPA! Adoption Container\, 3110 Commonwealth Dr.\, Dallas\, TX\, 75247\, United States
CATEGORIES:Community,Container,Social
ATTACH;FMTTYPE=image/jpeg:https://dallaspetsalive.org/wp-content/uploads/2026/04/Flyer-Cupcake-Class-1920-x-1080-px_page-0001.jpg
END:VEVENT
BEGIN:VEVENT
DTSTART;TZID=America/Chicago:20260530T120000
DTEND;TZID=America/Chicago:20260530T170000
DTSTAMP:20260424T033253
CREATED:20260421T012702Z
LAST-MODIFIED:20260421T012837Z
UID:10000957-1780142400-1780160400@dallaspetsalive.org
SUMMARY:DPA Pet Vendor Market: Summer Kick Off Edition
DESCRIPTION:Summer is here\, Dallas! Kick off the season with a dog-friendly afternoon of sunshine\, shopping\, and supporting rescue pets at the Dallas Pets Alive Adoption Container. \n📅 Saturday\, May 30\n ⏰ 12 – 5 PM\n 📍 Community Beer Co. | 3110 Commonwealth Dr\, Dallas\, TX \nWe’re bringing all the summer vibes with: \n\n 🍦 Pup Cups ($1 donation)\n 🐶 Adoptable pups and snuggly cats\n 🛍️ Local pet vendors and makers\n 🍺 Cold beer and brewery vibes \nBring your pup and shop a curated lineup of local small businesses offering treats\, toys\, accessories\, art\, and more. Grab a pup cup\, snap a summer photo\, and soak up a fun afternoon with fellow animal lovers. \nWhether you’re here to spoil your dog\, support rescue\, or just enjoy a sunny day out\, this is your summer kickoff plan. \n💛 Dog-friendly brewery\n💛 Shop small and local\n💛 Rescue pets + summer vibes \nQuestions? container@dallaspetsalive.org
URL:https://dallaspetsalive.org/event/dpa-pet-vendor-market-summer-kick-off-edition/
LOCATION:DPA! Adoption Container\, 3110 Commonwealth Dr.\, Dallas\, TX\, 75247\, United States
CATEGORIES:Community,Container,Dogs,Social
ATTACH;FMTTYPE=image/jpeg:https://dallaspetsalive.org/wp-content/uploads/2026/04/May-Summer-Kick-Off-DPA-Vendor-Market.jpg
END:VEVENT
BEGIN:VEVENT
DTSTART;TZID=America/Chicago:20260611T183000
DTEND;TZID=America/Chicago:20260611T210000
DTSTAMP:20260424T033253
CREATED:20260311T154530Z
LAST-MODIFIED:20260319T235528Z
UID:10000889-1781202600-1781211600@dallaspetsalive.org
SUMMARY:Dogs Matter\, Tails of Triumph
DESCRIPTION:Join us for a celebration of recovery\, healing\, and the lifesaving connection between humans and their animals. \nPurchase your ticket today here.
URL:https://dallaspetsalive.org/event/tailsoftriumph/
LOCATION:4445 Sigma Rd\, Dallas\, TX 75244\, 4445 Sigma Rd\, Dalls\, Texas\, 75244\, United States
CATEGORIES:Celebration,Community,Dogs Matter,Fundraiser
ATTACH;FMTTYPE=image/jpeg:https://dallaspetsalive.org/wp-content/uploads/2026/03/2026-Save-The-Date-Tails-of-Triumph-2.jpg
END:VEVENT
END:VCALENDAR