BEGIN:VCALENDAR
VERSION:2.0
PRODID:-//Dallas Pets Alive! - ECPv6.15.14//NONSGML v1.0//EN
CALSCALE:GREGORIAN
METHOD:PUBLISH
X-WR-CALNAME:Dallas Pets Alive!
X-ORIGINAL-URL:https://dallaspetsalive.org
X-WR-CALDESC:Events for Dallas Pets Alive!
REFRESH-INTERVAL;VALUE=DURATION:PT1H
X-Robots-Tag:noindex
X-PUBLISHED-TTL:PT1H
BEGIN:VTIMEZONE
TZID:America/Chicago
BEGIN:DAYLIGHT
TZOFFSETFROM:-0600
TZOFFSETTO:-0500
TZNAME:CDT
DTSTART:20240310T080000
END:DAYLIGHT
BEGIN:STANDARD
TZOFFSETFROM:-0500
TZOFFSETTO:-0600
TZNAME:CST
DTSTART:20241103T070000
END:STANDARD
BEGIN:DAYLIGHT
TZOFFSETFROM:-0600
TZOFFSETTO:-0500
TZNAME:CDT
DTSTART:20250309T080000
END:DAYLIGHT
BEGIN:STANDARD
TZOFFSETFROM:-0500
TZOFFSETTO:-0600
TZNAME:CST
DTSTART:20251102T070000
END:STANDARD
BEGIN:DAYLIGHT
TZOFFSETFROM:-0600
TZOFFSETTO:-0500
TZNAME:CDT
DTSTART:20260308T080000
END:DAYLIGHT
BEGIN:STANDARD
TZOFFSETFROM:-0500
TZOFFSETTO:-0600
TZNAME:CST
DTSTART:20261101T070000
END:STANDARD
END:VTIMEZONE
BEGIN:VEVENT
DTSTART;TZID=America/Chicago:20250308T130000
DTEND;TZID=America/Chicago:20250308T170000
DTSTAMP:20260422T174420
CREATED:20250105T004542Z
LAST-MODIFIED:20250105T004542Z
UID:10000240-1741438800-1741453200@dallaspetsalive.org
SUMMARY:Caturday
DESCRIPTION:One Saturday a month join us from 1 pm to 5 pm for Caturday at the Container at Community Beer Company. \nMeet adoptable foster cats and participate in interactive activities such as:\n Creating cat wands for foster & shelter cats\n Playing with adoptable cats and kittens\n Using our innovative\, matchmaking software to find a cat fit for your home \nCome spend a purr-fect day supporting cats in our program and connecting with our cat-loving community! \n2025 Caturday Dates: (dates subject to change) \n\nJanuary 11th\, 1-5 PM\nFebruary 15th\, 1-5PM\nMarch 8th\, 1-5PM\nApril 5th\, 1-5PM\nMay 10th\, 1-5PM\nJune 14th\, 1-5PM\nJuly 19th\, 1-5PM\nAugust 9th\, 1-5PM\nSeptember 20th\, 1-5PM\nOctober 11th\, 1-5PM\nNovember 8th\, 1-5PM\nDecember 13th\, 1-5PM\n\nQuestions? Email container@dallaspetsalive.org
URL:https://dallaspetsalive.org/event/caturday-march-2025/
LOCATION:DPA! Adoption Container\, 3110 Commonwealth Dr.\, Dallas\, TX\, 75247\, United States
CATEGORIES:Adoption,Cats,Container,Social
ATTACH;FMTTYPE=image/jpeg:https://dallaspetsalive.org/wp-content/uploads/2025/01/Caturday-Graphic.jpg
END:VEVENT
BEGIN:VEVENT
DTSTART;TZID=America/Chicago:20250308T130000
DTEND;TZID=America/Chicago:20250308T170000
DTSTAMP:20260422T174420
CREATED:20250215T201555Z
LAST-MODIFIED:20250215T201555Z
UID:10000263-1741438800-1741453200@dallaspetsalive.org
SUMMARY:International Women’s Day Celebration
DESCRIPTION:✨ Celebrate International Women’s Day with the Girls of DPA! 💜🐾 \nJoin us for a special adoption event dedicated to our fabulous female furry friends—because girls rule the world! 🌟 Whether you’re looking for a loyal lady pup or a sassy feline queen\, this is your chance to meet some incredible adoptable girl dogs and cats ready to steal your heart. ❤️ \n💐 When: March 8th\, 1 PM – 5 PM\n💐 Where: Community Beer Co. (3110 Commonwealth Dr\, Dallas\, TX 75247) \nCome celebrate the power of women—two-legged and four-legged—while supporting pet adoption and female empowerment. You might just meet your new best girlfriend! 💕
URL:https://dallaspetsalive.org/event/international-womens-day-celebration/
LOCATION:DPA! Adoption Container\, 3110 Commonwealth Dr.\, Dallas\, TX\, 75247\, United States
CATEGORIES:Adoption,Container,Social
END:VEVENT
BEGIN:VEVENT
DTSTART;TZID=America/Chicago:20250315T180000
DTEND;TZID=America/Chicago:20250315T200000
DTSTAMP:20260422T174420
CREATED:20250215T201744Z
LAST-MODIFIED:20250221T013427Z
UID:10000264-1742061600-1742068800@dallaspetsalive.org
SUMMARY:St. Pawdy's Day Adoption Event
DESCRIPTION:🍀 St. Pawdy’s Day Adoption Event 🍀 \nGet ready to shamrock and roll with us at Community Beer Co. for a St. Patrick’s Day celebration filled with wagging tails and cold ales! 🐾🍻 \n🐶 Meet adorable\, adoptable pets searching for their forever homes\n💚 Celebrate with festive brews and St. Paddy’s Day vibes\n📸 Snap some cute pics with our themed photo ops\n🎉 Bring your pups and let’s make it a paw-some night! \n📅 When: Saturday\, March 15th | 6 PM – 8 PM\n📍 Where: Community Beer Co. | 3110 Commonwealth Dr\, Dallas\, TX 75247 \nFind a four-leaf clover 🍀 or maybe even your four-legged lucky charm! 🐶💚 \nSláinte to new friendships—both human and furry! 🍻🐾
URL:https://dallaspetsalive.org/event/st-pawdys-day-adoption-event/
LOCATION:DPA! Adoption Container\, 3110 Commonwealth Dr.\, Dallas\, TX\, 75247\, United States
CATEGORIES:Adoption,Container,Social
END:VEVENT
BEGIN:VEVENT
DTSTART;TZID=America/Chicago:20250321T173000
DTEND;TZID=America/Chicago:20250321T193000
DTSTAMP:20260422T174420
CREATED:20250105T024056Z
LAST-MODIFIED:20250105T024056Z
UID:10000246-1742578200-1742585400@dallaspetsalive.org
SUMMARY:Tales to Tails
DESCRIPTION:Sign up your little one today to become a ‘Tales and Tails’ volunteer\, where they can read their favorite stories to our adorable and adoptable foster dogs. \n \nWe’re creating joyful moments and building a brighter future for both children and our furry companions. Join us for an evening where young readers become the storytellers for our foster dogs! Kids of all ages will have the opportunity to read their favorite stories to our foster pups\, providing valuable socialization for our dogs and helping children develop their reading skills. Let’s create unforgettable memories\, one story at a time. \n\nIt is BYOB  – bring your own book\, or we will have options for your kiddo(s) to pick from.\n \nSign Up Here: https://bit.ly/DPAReadingtoFosters\n\n\nQuestions? Email container@dallaspetsalive.org\n \n2025 Dates:\n\nFriday\, January 17th\, 5:30-7:30PM\nFriday\, February 21st\, 5:30-7:30PM\n\nFriday\, March 21st\, 5:30-7:30PM\n\nFriday\, April 18th\, 5:30-7:30PM\n\nFriday\, May 16th\, 5:30-7:30PM\n\nFriday\, June 20th\, 5:30-7:30PM\n\nFriday\, July 18th\, 5:30-7:30PM\n\nFriday\, August 15th\, 5:30-7:30PM\n\nFriday\, September 19th\, 5:30-7:30PM\n\nFriday\, October 17th\, 5:30-7:30PM\n\nFriday\, November 21st\, 5:30-7:30PM\n\nFriday\, December 19th\, 5:30-7:30PM
URL:https://dallaspetsalive.org/event/tales-to-tails-march-2025/
LOCATION:DPA! Adoption Container\, 3110 Commonwealth Dr.\, Dallas\, TX\, 75247\, United States
CATEGORIES:Adoption,Container,Dogs,Social
ATTACH;FMTTYPE=image/jpeg:https://dallaspetsalive.org/wp-content/uploads/2025/01/Tales-to-Tails-Graphic.jpg
END:VEVENT
BEGIN:VEVENT
DTSTART;TZID=America/Chicago:20250323T120000
DTEND;TZID=America/Chicago:20250323T170000
DTSTAMP:20260422T174421
CREATED:20250215T201909Z
LAST-MODIFIED:20250215T201909Z
UID:10000265-1742731200-1742749200@dallaspetsalive.org
SUMMARY:Spring into Adoption Pet Vendor Market
DESCRIPTION:🌷 Spring into Adoption Pet Vendor Market 🌷 \nJoin us for a fun-filled day of shopping\, sipping\, and meeting adoptable pets at Community Beer Co.! \n🐶 Meet adorable dogs and cats looking for their forever homes\n🛍️ Shop from local pet-friendly vendors and artisans\n🍻 Enjoy delicious brews from Community Beer Co.\n🎉 Bring your pup along for a paw-some day of fun! \n📅 When: Sunday\, March 23rd | 12 PM – 5 PM\n📍 Where: Community Beer Co. | 3110 Commonwealth Dr\, Dallas\, TX 75247 \nCome for the shopping\, stay for the cuddles\, and maybe leave with a new best friend! 💕 \nAdopt. Shop. Celebrate spring! 🌼🐾
URL:https://dallaspetsalive.org/event/spring-into-adoption-pet-vendor-market/
LOCATION:DPA! Adoption Container\, 3110 Commonwealth Dr.\, Dallas\, TX\, 75247\, United States
CATEGORIES:Adoption,Community,Container
END:VEVENT
END:VCALENDAR