BEGIN:VCALENDAR
VERSION:2.0
PRODID:-//Dallas Pets Alive! - ECPv6.15.14//NONSGML v1.0//EN
CALSCALE:GREGORIAN
METHOD:PUBLISH
X-WR-CALNAME:Dallas Pets Alive!
X-ORIGINAL-URL:https://dallaspetsalive.org
X-WR-CALDESC:Events for Dallas Pets Alive!
REFRESH-INTERVAL;VALUE=DURATION:PT1H
X-Robots-Tag:noindex
X-PUBLISHED-TTL:PT1H
BEGIN:VTIMEZONE
TZID:America/Chicago
BEGIN:DAYLIGHT
TZOFFSETFROM:-0600
TZOFFSETTO:-0500
TZNAME:CDT
DTSTART:20240310T080000
END:DAYLIGHT
BEGIN:STANDARD
TZOFFSETFROM:-0500
TZOFFSETTO:-0600
TZNAME:CST
DTSTART:20241103T070000
END:STANDARD
BEGIN:DAYLIGHT
TZOFFSETFROM:-0600
TZOFFSETTO:-0500
TZNAME:CDT
DTSTART:20250309T080000
END:DAYLIGHT
BEGIN:STANDARD
TZOFFSETFROM:-0500
TZOFFSETTO:-0600
TZNAME:CST
DTSTART:20251102T070000
END:STANDARD
BEGIN:DAYLIGHT
TZOFFSETFROM:-0600
TZOFFSETTO:-0500
TZNAME:CDT
DTSTART:20260308T080000
END:DAYLIGHT
BEGIN:STANDARD
TZOFFSETFROM:-0500
TZOFFSETTO:-0600
TZNAME:CST
DTSTART:20261101T070000
END:STANDARD
END:VTIMEZONE
BEGIN:VEVENT
DTSTART;TZID=America/Chicago:20250208T150000
DTEND;TZID=America/Chicago:20250208T180000
DTSTAMP:20260422T162757
CREATED:20241217T050215Z
LAST-MODIFIED:20250120T181429Z
UID:10000237-1739026800-1739037600@dallaspetsalive.org
SUMMARY:Valentails: Singles Social
DESCRIPTION:Join us at Community Beer Co. Saturday\, February 8th for “Valentails\,” a singles social & dog-friendly Valentine’s Day event & fundraiser for pet pawrents! \nYou don’t need to be single to attend (although if you are\, you may meet the love of your life who is also an animal lover\, and what better way to take the pressure off meeting someone new when you have your canine friend with you). Join us and make this a date with or without your dog! Food and drinks available for purchase \nYour ticket comes with a goody bag filled with a DPA! Adoption Container beer glass\, a beer ticket\, a raffle ticket\, BINGO card\, dog and/or cat treats. \nTake advantage of early bird tickets\, $20 + fees\, until Friday\, February 7th 11:59PM or $30 at the door. (We accept cash or card.) \nWe’ll have fun activities for both humans and canines: \n\nDoggy Kissing Booth\nAdoptable Foster Dogs onsite\nMake Valentines for the foster animals\nBINGO (first person to finish Bingo Card gets TWO beers…one for you and one for your selected lover)\nRaffle drawing at 5:00PM\n\nEmail container@dallaspetsalive.org with questions.
URL:https://dallaspetsalive.org/event/dating-with-pets/
LOCATION:DPA! Adoption Container\, 3110 Commonwealth Dr.\, Dallas\, TX\, 75247\, United States
CATEGORIES:Adoption,Container,Dogs,Social
ATTACH;FMTTYPE=image/jpeg:https://dallaspetsalive.org/wp-content/uploads/2024/12/Valentails.jpg
END:VEVENT
BEGIN:VEVENT
DTSTART;TZID=America/Chicago:20250209T130000
DTEND;TZID=America/Chicago:20250209T150000
DTSTAMP:20260422T162757
CREATED:20250120T182212Z
LAST-MODIFIED:20250203T123429Z
UID:10000260-1739106000-1739113200@dallaspetsalive.org
SUMMARY:Senior Bowl
DESCRIPTION:Senior Bowl: A Celebration of Senior Pets   \n🏈🐾 Touchdown for Love! Join us on Super Bowl Sunday for the ultimate Senior Bowl\, an event dedicated to celebrating and promoting the adoption of senior pets in need of loving homes.   \n💖 Meet the MVPs (Most Valuable Pets): Our senior pets may be older\, but they’re full of wisdom\, love\, and charm! Come meet these seasoned companions who are ready to find their forever families.   \n🎉 Parade of Champions: Don’t miss our heartwarming parade featuring the adoptable senior pets strutting their stuff. They’ll show off their personalities and winning attitudes as they take the spotlight.   \n📸 Photo Fun: Capture the moment with themed photo opportunities to celebrate your love for senior pets.   \n🍔 Food & Fun: Enjoy Community Beer’s game-day snacks\, beverages\, and a festive atmosphere to get you in the spirit of both football and adoption!   \n📅 When: Super Bowl Sunday\, February 9th 1-3PM \n📍 Where: Community Beer Co. \nVOTE HERE! \nQuestions? Email container@dallaspetsalive.org \nCome cheer on these senior champions and help them score a forever home! Whether you’re a football fan or just a lover of animals\, this event is the perfect way to kick off your Super Bowl celebrations while supporting Dallas Pets Alive!’s mission.   \nLet’s make this Senior Bowl one to remember—see you there! 🏆🐕
URL:https://dallaspetsalive.org/event/senior-bowl/
LOCATION:DPA! Adoption Container\, 3110 Commonwealth Dr.\, Dallas\, TX\, 75247\, United States
CATEGORIES:Adoption,Celebration,Container,Dogs,Social
ATTACH;FMTTYPE=image/jpeg:https://dallaspetsalive.org/wp-content/uploads/2025/01/Copy-of-Senior-Bowl-2025-Facebook-Cover-1920-x-1000-px.jpg
END:VEVENT
BEGIN:VEVENT
DTSTART;TZID=America/Chicago:20250215T130000
DTEND;TZID=America/Chicago:20250215T170000
DTSTAMP:20260422T162757
CREATED:20241217T045655Z
LAST-MODIFIED:20250120T181638Z
UID:10000236-1739624400-1739638800@dallaspetsalive.org
SUMMARY:Caturday
DESCRIPTION:It’s the purrrfect way to start the weekend. We’re rolling out the red carpet for our feline friends\, and you’re invited to enjoy a day filled with all things cat-tastic. Come and mingle with fellow cat enthusiasts\, share your favorite cat stories\, and meet some of the most adorable adoptable cats seeking their forever homes.
URL:https://dallaspetsalive.org/event/caturday-february-2025/
LOCATION:DPA! Adoption Container\, 3110 Commonwealth Dr.\, Dallas\, TX\, 75247\, United States
CATEGORIES:Adoption,Cats,Container,Social
ATTACH;FMTTYPE=image/jpeg:https://dallaspetsalive.org/wp-content/uploads/2025/01/Caturday-Graphic.jpg
END:VEVENT
BEGIN:VEVENT
DTSTART;TZID=America/Chicago:20250221T173000
DTEND;TZID=America/Chicago:20250221T193000
DTSTAMP:20260422T162757
CREATED:20241217T050434Z
LAST-MODIFIED:20250105T161739Z
UID:10000238-1740159000-1740166200@dallaspetsalive.org
SUMMARY:Tales to Tails
DESCRIPTION:Sign up your little one today to become a ‘Tales and Tails’ volunteer\, where they can read their favorite stories to our adorable and adoptable foster dogs. \n\nWe’re creating joyful moments and building a brighter future for both children and our furry companions. Join us for an evening where young readers become the storytellers for our foster dogs! Kids of all ages will have the opportunity to read their favorite stories to our foster pups\, providing valuable socialization for our dogs and helping children develop their reading skills. Let’s create unforgettable memories\, one story at a time.\n\nIt is BYOB  – bring your own book\, or we will have options for your kiddo(s) to pick from.\n\nSign Up Here: https://bit.ly/DPAReadingtoFosters\n\n\nQuestions? Email container@dallaspetsalive.org\n \n2025 Dates:\n\nFriday\, January 17th\, 5:30-7:30PM\nFriday\, February 21st\, 5:30-7:30PM\nFriday\, March 21st\, 5:30-7:30PM\nFriday\, April 18th\, 5:30-7:30PM\nFriday\, May 16th\, 5:30-7:30PM\nFriday\, June 20th\, 5:30-7:30PM\nFriday\, July 18th\, 5:30-7:30PM\nFriday\, August 15th\, 5:30-7:30PM\nFriday\, September 19th\, 5:30-7:30PM\nFriday\, October 17th\, 5:30-7:30PM\nFriday\, November 21st\, 5:30-7:30PM\nFriday\, December 19th\, 5:30-7:30PM
URL:https://dallaspetsalive.org/event/tales-to-tails-february-2025/
LOCATION:DPA! Adoption Container\, 3110 Commonwealth Dr.\, Dallas\, TX\, 75247\, United States
CATEGORIES:Adoption,Container,Dogs,Social
ATTACH;FMTTYPE=image/jpeg:https://dallaspetsalive.org/wp-content/uploads/2024/12/5.jpg
END:VEVENT
BEGIN:VEVENT
DTSTART;TZID=America/Chicago:20250222T120000
DTEND;TZID=America/Chicago:20250222T170000
DTSTAMP:20260422T162757
CREATED:20241217T050645Z
LAST-MODIFIED:20250120T181828Z
UID:10000239-1740225600-1740243600@dallaspetsalive.org
SUMMARY:Hearts & Paws: Vendor Market
DESCRIPTION:Join us for a heartwarming day of wagging tails and endless love at the Hearts and Paws Adoption Event and Vendor Market! This family-friendly event brings together adoptable pets from Dallas Pets Alive! and a curated selection of local vendors for a day of celebration you won’t want to miss.   \n🐾 Meet Your Furry Valentine: Whether you’re looking for a playful puppy\, a snuggly senior\, or a loyal companion\, our adoptable pets are ready to steal your heart and find their forever homes.   \n💖 Shop Local: Stroll through our vendor market featuring unique\, pet-themed goodies\, handcrafted gifts\, and treats for you and your furry friends—all while supporting local businesses.   \n📸 Photo Opportunities: Capture the love with Valentine’s Day photo setups perfect for you and your four-legged friends.   \n🎶 Entertainment & Fun: Enjoy beer\, food\, and activities for both pets and humans alike!   \n📅 When: Saturday\, February 22nd\, 12-5PM \n📍 Where: Community Beer Co. \nCome celebrate love in all its forms and make a difference in the lives of animals in need.  \nBring your family\, friends\, and\, of course\, your furry companions. We can’t wait to see you there! ❤️🐾
URL:https://dallaspetsalive.org/event/dpa-vendor-market-february-2025/
LOCATION:DPA! Adoption Container\, 3110 Commonwealth Dr.\, Dallas\, TX\, 75247\, United States
CATEGORIES:Adoption,Container,Social
ATTACH;FMTTYPE=image/jpeg:https://dallaspetsalive.org/wp-content/uploads/2024/12/6.jpg
END:VEVENT
END:VCALENDAR