BEGIN:VCALENDAR
VERSION:2.0
PRODID:-//Dallas Pets Alive! - ECPv6.15.14//NONSGML v1.0//EN
CALSCALE:GREGORIAN
METHOD:PUBLISH
X-WR-CALNAME:Dallas Pets Alive!
X-ORIGINAL-URL:https://dallaspetsalive.org
X-WR-CALDESC:Events for Dallas Pets Alive!
REFRESH-INTERVAL;VALUE=DURATION:PT1H
X-Robots-Tag:noindex
X-PUBLISHED-TTL:PT1H
BEGIN:VTIMEZONE
TZID:America/Chicago
BEGIN:DAYLIGHT
TZOFFSETFROM:-0600
TZOFFSETTO:-0500
TZNAME:CDT
DTSTART:20230312T080000
END:DAYLIGHT
BEGIN:STANDARD
TZOFFSETFROM:-0500
TZOFFSETTO:-0600
TZNAME:CST
DTSTART:20231105T070000
END:STANDARD
BEGIN:DAYLIGHT
TZOFFSETFROM:-0600
TZOFFSETTO:-0500
TZNAME:CDT
DTSTART:20240310T080000
END:DAYLIGHT
BEGIN:STANDARD
TZOFFSETFROM:-0500
TZOFFSETTO:-0600
TZNAME:CST
DTSTART:20241103T070000
END:STANDARD
BEGIN:DAYLIGHT
TZOFFSETFROM:-0600
TZOFFSETTO:-0500
TZNAME:CDT
DTSTART:20250309T080000
END:DAYLIGHT
BEGIN:STANDARD
TZOFFSETFROM:-0500
TZOFFSETTO:-0600
TZNAME:CST
DTSTART:20251102T070000
END:STANDARD
END:VTIMEZONE
BEGIN:VEVENT
DTSTART;TZID=America/Chicago:20241102T120000
DTEND;TZID=America/Chicago:20241102T170000
DTSTAMP:20260422T150909
CREATED:20241017T011229Z
LAST-MODIFIED:20241027T182304Z
UID:10000197-1730548800-1730566800@dallaspetsalive.org
SUMMARY:Mutts & Margs Adoption Event
DESCRIPTION:Join us for a tail-wagging good time at our Mutts & Margs Adoption Event! Sip on refreshing margaritas while you search for your new furry best friend. This lively day celebrates the love of dogs\, featuring delicious drinks\, good vibes\, and a host of adoptable pups eager to find their forever homes.
URL:https://dallaspetsalive.org/event/mutts-margs-adoption-event/
LOCATION:DPA! Adoption Container\, 3110 Commonwealth Dr.\, Dallas\, TX\, 75247\, United States
CATEGORIES:Adoption,Container,Dogs,Social
ATTACH;FMTTYPE=image/jpeg:https://dallaspetsalive.org/wp-content/uploads/2024/10/DPA-Web-Oktoberfest-1-1920w-1080t.jpg
END:VEVENT
BEGIN:VEVENT
DTSTART;TZID=America/Chicago:20241109T120000
DTEND;TZID=America/Chicago:20241109T160000
DTSTAMP:20260422T150909
CREATED:20241017T011954Z
LAST-MODIFIED:20241017T011954Z
UID:10000199-1731153600-1731168000@dallaspetsalive.org
SUMMARY:Queen's Market & DPA! Adoption Event
DESCRIPTION:Market Details \n\nSaturday\, November 9 from 12 to 4 p.m.\nFree admission & parking\, family and pet-friendly\nDallas Pets Alive! Adoption Container onsite\nWomen-led vendors benefiting Genesis Women’s Shelter\nAdoptable Foster Animals will be onsite to meet!\n\nWhere: 3110 Commonwealth Drive Dallas\, TX 75247\nWhen: 12 p.m. – 4 p.m. \nWant to meet a pet who is not at the Container? \nThanks to Texadia Systems\, patrons can search and be matched with foster pets that cannot attend events so they\, too\, can get exposure to potential adopters! Come into the Adoption Container to find your perfect match! \n\n**If you would like more photos to choose from\, you can save their photos from their adoption profile on our website!
URL:https://dallaspetsalive.org/event/queens-market-dpa-adoption-event-3/
LOCATION:DPA! Adoption Container\, 3110 Commonwealth Dr.\, Dallas\, TX\, 75247\, United States
CATEGORIES:Adoption,Community,Container,Fosters
END:VEVENT
BEGIN:VEVENT
DTSTART;TZID=America/Chicago:20241109T130000
DTEND;TZID=America/Chicago:20241109T170000
DTSTAMP:20260422T150909
CREATED:20241017T011605Z
LAST-MODIFIED:20241018T031819Z
UID:10000198-1731157200-1731171600@dallaspetsalive.org
SUMMARY:Caturday
DESCRIPTION:It’s the purrrfect way to start the weekend. We’re rolling out the red carpet for our feline friends\, and you’re invited to enjoy a day filled with all things cat-tastic. Come and mingle with fellow cat enthusiasts\, share your favorite cat stories\, and meet some of the most adorable adoptable cats seeking their forever homes.
URL:https://dallaspetsalive.org/event/caturday-november-24/
LOCATION:DPA! Adoption Container\, 3110 Commonwealth Dr.\, Dallas\, TX\, 75247\, United States
CATEGORIES:Adoption,Cats,Container,Social
ATTACH;FMTTYPE=image/jpeg:https://dallaspetsalive.org/wp-content/uploads/2024/10/Caturday-November.jpg
END:VEVENT
BEGIN:VEVENT
DTSTART;TZID=America/Chicago:20241122T173000
DTEND;TZID=America/Chicago:20241122T193000
DTSTAMP:20260422T150909
CREATED:20240530T031313Z
LAST-MODIFIED:20241017T012411Z
UID:10000184-1732296600-1732303800@dallaspetsalive.org
SUMMARY:Kiddos Reading to Foster Pups
DESCRIPTION:Join us for an evening where young readers become the storytellers for our foster dogs! Kids of all ages will have the opportunity to read their favorite stories to our foster pups\, providing valuable socialization for our dogs and helping children develop their reading skills. Let’s create unforgettable memories\, one story at a time! \nTo sign up\, fill out this form.
URL:https://dallaspetsalive.org/event/kiddos-reading-to-foster-pups-november-2024/
LOCATION:DPA! Adoption Container\, 3110 Commonwealth Dr.\, Dallas\, TX\, 75247\, United States
CATEGORIES:Adoption,Container,Dogs,Social
ATTACH;FMTTYPE=image/jpeg:https://dallaspetsalive.org/wp-content/uploads/2024/05/Kiddos-Reading-to-Foster-Pups.jpg
END:VEVENT
BEGIN:VEVENT
DTSTART;TZID=America/Chicago:20241124T110000
DTEND;TZID=America/Chicago:20241124T180000
DTSTAMP:20260422T150909
CREATED:20241017T012657Z
LAST-MODIFIED:20241017T012731Z
UID:10000200-1732446000-1732471200@dallaspetsalive.org
SUMMARY:Fursgiving Pet Vendor Market
DESCRIPTION:Join us for Fursgiving\, a festive pet vendor market at Community Beer Co.\, where we celebrate the season of gratitude with our furry friends! Enjoy delicious food and refreshing craft beers while browsing an array of local pet vendors offering unique products for your beloved companions. The event will also feature adorable adoptable dogs looking for their forever homes\, making it the perfect opportunity to find your new best friend just in time for the holidays. \nBring your family\, friends\, and pets to enjoy a day filled with fun\, shopping\, and community spirit. With Thanksgiving-themed activities\, special treats for pets\, and plenty of ways to support Dallas Pets Alive!\, Fursgiving is sure to be a heartwarming event for all. Don’t miss out on this chance to give back and celebrate the joy of pets this holiday season!
URL:https://dallaspetsalive.org/event/fursgiving-pet-vendor-market/
LOCATION:DPA! Adoption Container\, 3110 Commonwealth Dr.\, Dallas\, TX\, 75247\, United States
CATEGORIES:Adoption,Community,Container,Dogs
END:VEVENT
END:VCALENDAR