BEGIN:VCALENDAR
VERSION:2.0
PRODID:-//Dallas Pets Alive! - ECPv6.15.14//NONSGML v1.0//EN
CALSCALE:GREGORIAN
METHOD:PUBLISH
X-WR-CALNAME:Dallas Pets Alive!
X-ORIGINAL-URL:https://dallaspetsalive.org
X-WR-CALDESC:Events for Dallas Pets Alive!
REFRESH-INTERVAL;VALUE=DURATION:PT1H
X-Robots-Tag:noindex
X-PUBLISHED-TTL:PT1H
BEGIN:VTIMEZONE
TZID:America/Chicago
BEGIN:DAYLIGHT
TZOFFSETFROM:-0600
TZOFFSETTO:-0500
TZNAME:CDT
DTSTART:20230312T080000
END:DAYLIGHT
BEGIN:STANDARD
TZOFFSETFROM:-0500
TZOFFSETTO:-0600
TZNAME:CST
DTSTART:20231105T070000
END:STANDARD
BEGIN:DAYLIGHT
TZOFFSETFROM:-0600
TZOFFSETTO:-0500
TZNAME:CDT
DTSTART:20240310T080000
END:DAYLIGHT
BEGIN:STANDARD
TZOFFSETFROM:-0500
TZOFFSETTO:-0600
TZNAME:CST
DTSTART:20241103T070000
END:STANDARD
BEGIN:DAYLIGHT
TZOFFSETFROM:-0600
TZOFFSETTO:-0500
TZNAME:CDT
DTSTART:20250309T080000
END:DAYLIGHT
BEGIN:STANDARD
TZOFFSETFROM:-0500
TZOFFSETTO:-0600
TZNAME:CST
DTSTART:20251102T070000
END:STANDARD
END:VTIMEZONE
BEGIN:VEVENT
DTSTART;TZID=America/Chicago:20241012T130000
DTEND;TZID=America/Chicago:20241012T170000
DTSTAMP:20260422T162819
CREATED:20240918T015857Z
LAST-MODIFIED:20240918T020041Z
UID:10000194-1728738000-1728752400@dallaspetsalive.org
SUMMARY:Caturday
DESCRIPTION:It’s the purrrfect way to start the weekend. We’re rolling out the red carpet for our feline friends\, and you’re invited to enjoy a day filled with all things cat-tastic. Come and mingle with fellow cat enthusiasts\, share your favorite cat stories\, and meet some of the most adorable adoptable cats seeking their forever homes.
URL:https://dallaspetsalive.org/event/caturday-october/
LOCATION:DPA! Adoption Container\, 3110 Commonwealth Dr.\, Dallas\, TX\, 75247\, United States
CATEGORIES:Adoption,Cats,Container,Social
ATTACH;FMTTYPE=image/jpeg:https://dallaspetsalive.org/wp-content/uploads/2024/03/DPA-Web-Caturday-1-1920w-1080t.jpg
END:VEVENT
BEGIN:VEVENT
DTSTART;TZID=America/Chicago:20241018T173000
DTEND;TZID=America/Chicago:20241018T193000
DTSTAMP:20260422T162819
CREATED:20240530T031120Z
LAST-MODIFIED:20240530T031143Z
UID:10000183-1729272600-1729279800@dallaspetsalive.org
SUMMARY:Kiddos Reading to Foster Pups
DESCRIPTION:Join us for an evening where young readers become the storytellers for our foster dogs! Kids of all ages will have the opportunity to read their favorite stories to our foster pups\, providing valuable socialization for our dogs and helping children develop their reading skills. Let’s create unforgettable memories\, one story at a time! \nTo sign up\, fill out this form.
URL:https://dallaspetsalive.org/event/kiddos-reading-to-foster-pups-october-2024/
LOCATION:DPA! Adoption Container\, 3110 Commonwealth Dr.\, Dallas\, TX\, 75247\, United States
CATEGORIES:Adoption,Community,Container,Dogs,Social
ATTACH;FMTTYPE=image/jpeg:https://dallaspetsalive.org/wp-content/uploads/2024/05/Kiddos-Reading-to-Foster-Pups-6.jpg
END:VEVENT
BEGIN:VEVENT
DTSTART;TZID=America/Chicago:20241019T170000
DTEND;TZID=America/Chicago:20241019T190000
DTSTAMP:20260422T162819
CREATED:20240927T171000Z
LAST-MODIFIED:20241002T170518Z
UID:10000196-1729357200-1729364400@dallaspetsalive.org
SUMMARY:Queen’s Market + DPA Adoption Event
DESCRIPTION:MARKET DETAILS: \n\nSaturday\, October 19 from 5 p.m. to 7 p.m\nFree admission & parking\, family and pet-friendly\nDallas Pets Alive Adoption Container onsite\nWomen-led vendors benefiting Genesis Women’s Shelter\nAdoptable Foster Animals will be onsite to meet!\n\nWhere: 3110 Commonwealth Drive Dallas\, TX 75247\nWhen: 5 p.m. – 7 p.m. \nWant to meet a pet who is not at the Container? \nThanks to Texadia Systems\, patrons can search and be matched with foster pets that cannot attend events so they\, too\, can get exposure to potential adopters! Come into the Adoption Container to find your perfect match! \n\n**If you would like more photos to choose from\, you can save their photos from their adoption profile on our website!
URL:https://dallaspetsalive.org/event/queens-market-dpa-adoption-october/
LOCATION:DPA! Adoption Container\, 3110 Commonwealth Dr.\, Dallas\, TX\, 75247\, United States
CATEGORIES:Adoption,Community,Container,Fosters
END:VEVENT
END:VCALENDAR